BEGIN:VCALENDAR
VERSION:2.0
PRODID:-//Stowarzyszenie Inicjatywa Firm Rodzinnych - ECPv5.16.4//NONSGML v1.0//EN
CALSCALE:GREGORIAN
METHOD:PUBLISH
X-WR-CALNAME:Stowarzyszenie Inicjatywa Firm Rodzinnych
X-ORIGINAL-URL:https://firmyrodzinne.pl
X-WR-CALDESC:Wydarzenia dla Stowarzyszenie Inicjatywa Firm Rodzinnych
BEGIN:VTIMEZONE
TZID:Europe/Warsaw
BEGIN:DAYLIGHT
TZOFFSETFROM:+0100
TZOFFSETTO:+0200
TZNAME:CEST
DTSTART:20200329T010000
END:DAYLIGHT
BEGIN:STANDARD
TZOFFSETFROM:+0200
TZOFFSETTO:+0100
TZNAME:CET
DTSTART:20201025T010000
END:STANDARD
END:VTIMEZONE
BEGIN:VEVENT
DTSTART;TZID=Europe/Warsaw:20200916T110000
DTEND;TZID=Europe/Warsaw:20200916T123000
DTSTAMP:20260423T112124
CREATED:20200909T115315Z
LAST-MODIFIED:20200909T132410Z
UID:9350-1600254000-1600259400@firmyrodzinne.pl
SUMMARY:Webinarium IFR-FBN #4
DESCRIPTION:  \nSerdecznie zapraszamy na czwarte wspólne webinarium stowarzyszenia Inicjatywa Firm Rodzinnych i Family Business Network Poland\, które odbędzie się w środę 16 września w godz. 11:00-12:30. Spotkanie poprowadzi Andrzej Barański (Prezes i główny akcjonariusz firmy rodzinnej Herbewo\, członek IFR i FBN Poland) i opowie nam o sile i uroku historii firmy rodzinnej. Moderować webinarium będzie Agata Hagno (Członek Zarządu IFR). \nJak sugeruje nazwa webinarium\, na przykładzie znanej krakowskiej firmy rodzinnej porozmawiamy o historii polskiego biznesu rodzinnego\, o tradycjach rodzimej przedsiębiorczości\, a także o kilkudziesięcioletnich metodach zarządzania i sposobach prowadzenia marketingu\, które po dzis dzień są używane i dopracowywane przez Współczesnych ekspertów zarządzania. \nGrupa Herbewo składa się z 3 firm: Herbewo International S.A.\, Herbewo S.A. oraz Herbewo City. Najstarsza z nich powstała w 1923 roku z połączenia firm 3 właścicieli: Rudolfa Herliczki\, Władysława Bełdowskiego i Stanisława Wołoszyńskiego. Od ich nazwisk też powstała nazwa firmy. \nJak twierdzi Pan Andrzej: \n\nHistoria naszej firmy jest niezwykła. Można by napisać na jej kanwie kilka scenariuszy filmowych. Zawsze firma była ważniejsza od ludzi z rodziny. Przed wojną gigant papierowy i papierosowy absolutny innowator\, obecnie zarządzamy skromnie 9 butikowymi biurowcami. Co pewien czas dowiaduję się o epokowym odkryciu z zarządzania\, a to wszystko już było kilkadziesiąt lat temu. Wiele z współczesnych działań marketingowych stosowanych od niedawna było świetnie znanych wiek temu. Życie rodziny\, niepozbawione tragedii\, było też na wysokim poziomie z wartościami ostatnio uznanymi za nowoczesne. Chciałbym podzielić się dobrymi radami sprzed wielu lat ciągle nowatorskimi\, ale też podać straszne konsekwencje złych wyborów – kontynuuje nasz prelegent. \n\nRozmowa zapowiada się bardzo interesująco. \nOczywiście będzie czas na dyskusję i sesję pytań. Serdecznie zapraszamy do udziału w bezpłatnym webinarium. Transmisja on-line odbędzie się na platformie ClickMeeting. \n\n\n\n\nWEŹ UDZIAŁ W WEBINARIUM\n\n\n\n\n\n\nInstrukcja udziału w webinarium przez ClickMeeting [PDF]
URL:https://firmyrodzinne.pl/kalendarz/webinarium-ifr-fbn-4/
CATEGORIES:IFR
ORGANIZER;CN="Inicjatywa%20Firm%20Rodzinnych":MAILTO:sekretariat@firmyrodzinne.pl
END:VEVENT
END:VCALENDAR