BEGIN:VCALENDAR
VERSION:2.0
PRODID:-//Stowarzyszenie Inicjatywa Firm Rodzinnych - ECPv5.16.4//NONSGML v1.0//EN
CALSCALE:GREGORIAN
METHOD:PUBLISH
X-WR-CALNAME:Stowarzyszenie Inicjatywa Firm Rodzinnych
X-ORIGINAL-URL:https://firmyrodzinne.pl
X-WR-CALDESC:Wydarzenia dla Stowarzyszenie Inicjatywa Firm Rodzinnych
BEGIN:VTIMEZONE
TZID:Europe/Warsaw
BEGIN:DAYLIGHT
TZOFFSETFROM:+0100
TZOFFSETTO:+0200
TZNAME:CEST
DTSTART:20200329T010000
END:DAYLIGHT
BEGIN:STANDARD
TZOFFSETFROM:+0200
TZOFFSETTO:+0100
TZNAME:CET
DTSTART:20201025T010000
END:STANDARD
END:VTIMEZONE
BEGIN:VEVENT
DTSTART;TZID=Europe/Warsaw:20201008T160000
DTEND;TZID=Europe/Warsaw:20201008T190000
DTSTAMP:20260425T011924
CREATED:20200904T113854Z
LAST-MODIFIED:20201002T132746Z
UID:9308-1602172800-1602183600@firmyrodzinne.pl
SUMMARY:[PRZEŁOŻONE] Spotkanie mentoringowe Łódź
DESCRIPTION:ZMIANA TERMINU! Informujemy\, że spotkanie dla przedsiębiorców rodzinnych z regionu łódzkiego odbędzie się w nowym terminie 8 października 2020 r. \n\nDrodzy Rodzinni z Łodzi i okolic\, po przerwie spowodowanej sytuacją epidemiczną wracamy ze spotkaniem dla przedsiębiorców rodzinnych z naszego regionu\, które odbędzie się 8 października o godz. 16:00-19:00 w siedzibie Salve Medica (ul. Szparagowa 10\, 91-211 Łódź). \nTemat\, który obecnie nurtuje zdecydowaną większość z nas\, to kwestie prawno-podatkowe związane z ułatwieniami i dofinansowaniem w ramach Tarcz Antykryzysowych\, wprowadzanych sukcesywnie od początku epidemii wiosną br. Dlatego wspólnie z Kancelarią Finansową LEX przygotowaliśmy dla Was interesujące wystąpienie pt. „Wybrane zmiany podatkowe 2021. Kontrole wykorzystania środków z PFR„\, które poprowadzi Dawid Rejmer – Radca Prawny\, Członek Zarządu IFR. W trakcie spotkania opowie on o nadchodzących w przyszłym roku zmianach podatkowych i ich konsekwencjach dla przedsiębiorców rodzinnych. W dalszej części zajmie się tematem kontroli środków otrzymanych z PFR w związku z COVID-19. Oczywiście będzie również czas na zadawanie pytań i otwartą dyskusję z naszym ekspertem i innymi przedsiębiorcami uczestniczącymi w wydarzeniu. \n Serdecznie zachęcamy do udziału! \n\n\n\nFORMULARZ REJESTRACJI\n\n\n\n\n* Zadbamy oczywiście o spełnienie wymogów sanitarnych – maseczki i płyn dezynfekujący będą udostępnione wszystkim uczestnikom spotkania mentoringowego.
URL:https://firmyrodzinne.pl/kalendarz/spotkanie-mentoringowe-lodz/
LOCATION:Salve Medica\, ul. Szparagowa 10\, Łódź\, 91-211
CATEGORIES:IFR
ORGANIZER;CN="IFR%20Oddzia%C5%82%20Regionu%20%C5%81%C3%B3dzkiego%20i%20Mazowsza%20Zachodniego":MAILTO:lodzkie@firmyrodzinne.pl
END:VEVENT
END:VCALENDAR