BEGIN:VCALENDAR
VERSION:2.0
PRODID:-//Stowarzyszenie Inicjatywa Firm Rodzinnych - ECPv5.16.4//NONSGML v1.0//EN
CALSCALE:GREGORIAN
METHOD:PUBLISH
X-WR-CALNAME:Stowarzyszenie Inicjatywa Firm Rodzinnych
X-ORIGINAL-URL:https://firmyrodzinne.pl
X-WR-CALDESC:Wydarzenia dla Stowarzyszenie Inicjatywa Firm Rodzinnych
BEGIN:VTIMEZONE
TZID:Europe/Warsaw
BEGIN:DAYLIGHT
TZOFFSETFROM:+0100
TZOFFSETTO:+0200
TZNAME:CEST
DTSTART:20230326T010000
END:DAYLIGHT
BEGIN:STANDARD
TZOFFSETFROM:+0200
TZOFFSETTO:+0100
TZNAME:CET
DTSTART:20231029T010000
END:STANDARD
END:VTIMEZONE
BEGIN:VEVENT
DTSTART;VALUE=DATE:20231011
DTEND;VALUE=DATE:20231014
DTSTAMP:20260420T064032
CREATED:20230808T100750Z
LAST-MODIFIED:20230808T100750Z
UID:14487-1696982400-1697241599@firmyrodzinne.pl
SUMMARY:XII Europejskie Forum Nowych Idei
DESCRIPTION:Europejskie Forum Nowych Idei to jedna z największych w tej części kontynentu konferencji\, poświęcona globalnym trendom\, nowym ideom oraz przyszłości Europy. \nPrzedstawiciele biznesu\, charyzmatyczni mówcy\, liderzy i decydenci oraz autorytety ze świata kultury i nauki podczas kilkudziesięciu wydarzeń\, paneli\, spotkań otwartych\, kontrapunktów czy nocnych rozmów debatują o najważniejszych wyzwaniach dla biznesu i społeczeństw w zmieniającym się świecie\, o globalnych trendach oraz o przyszłym kształcie Unii. \nForum co roku gromadzi ponad tysiąc uczestników – przedstawicieli świata biznesu\, nauki\, kultury oraz administracji zarówno polskiej jak i europejskiej. Europejskie Forum Nowych Idei organizowane jest od 2011 roku przez Konfederację Lewiatan przy współudziale Business Europe oraz miasta Sopot. \n\n\n\nPROGRAM\n\n\n\n\n\n\nREJESTRACJA
URL:https://firmyrodzinne.pl/kalendarz/xii-europejskie-forum-nowych-idei/
LOCATION:Hotel Radisson Blu Sopot\, Bitwy pod Płowcami 54\, Sopot\, 81-731
CATEGORIES:Inne
ORGANIZER;CN="Konfederacja%20Lewiatan":MAILTO:recepcja@lewiatan.org
END:VEVENT
END:VCALENDAR