BEGIN:VCALENDAR
VERSION:2.0
PRODID:-//Stowarzyszenie Inicjatywa Firm Rodzinnych - ECPv5.16.4//NONSGML v1.0//EN
CALSCALE:GREGORIAN
METHOD:PUBLISH
X-WR-CALNAME:Stowarzyszenie Inicjatywa Firm Rodzinnych
X-ORIGINAL-URL:https://firmyrodzinne.pl
X-WR-CALDESC:Wydarzenia dla Stowarzyszenie Inicjatywa Firm Rodzinnych
BEGIN:VTIMEZONE
TZID:Europe/Warsaw
BEGIN:DAYLIGHT
TZOFFSETFROM:+0100
TZOFFSETTO:+0200
TZNAME:CEST
DTSTART:20230326T010000
END:DAYLIGHT
BEGIN:STANDARD
TZOFFSETFROM:+0200
TZOFFSETTO:+0100
TZNAME:CET
DTSTART:20231029T010000
END:STANDARD
END:VTIMEZONE
BEGIN:VEVENT
DTSTART;TZID=Europe/Warsaw:20231030T100000
DTEND;TZID=Europe/Warsaw:20231030T110000
DTSTAMP:20260420T051224
CREATED:20231025T110814Z
LAST-MODIFIED:20231103T132934Z
UID:14740-1698660000-1698663600@firmyrodzinne.pl
SUMMARY:Cyberbezpieczeństwo – perspektywa dla Zarządzających
DESCRIPTION:W dzisiejszym dynamicznie rozwijającym się świecie\, cyberbezpieczeństwo stało się kwestią kluczową\, szczególnie w kontekście rosnących zagrożeń\, postępującej cyfryzacji i nowych regulacji\, takich jak Akt o Odporności Cybernetycznej (CRA)\, czy NIS2. \nPodczas naszego webinarium omówimy: \n\nDlaczego cyberbezpieczeństwo jest rosnącym wyzwaniem dla firm\, przedstawimy rosnące zagrożenia i konsekwencje cyfryzacji i wskażemy nowe regulacje\, które przynoszą nowe formalne wymagania\nPrzedstawimy perspektywę cyberbezpieczeństwa dla Zarządzających\, omawiając integrację cyberbezpieczeństwa w całej infrastrukturze firmy\, cyberbezpieczeństwo w łańcuchu dostaw i integrację wymagań cyberbezpieczeństwa w funkcje zarządcze.\nWskażemy narzędzia przydatne dla przygotowania współpracy pomiędzy funkcjami cyberbezpieczeństwa a zarządzającymi w celu przygotowania procesów zarządczych uwzględniających wymagania cyberbezpieczeństwa i narzędzia do wdrożenia skutecznego programu cyberbezpieczeństwa.\n\nNasza prezentacja będzie doskonałą okazją do zdobycia wiedzy i praktycznych wskazówek dotyczących zabezpieczania swojej firmy przed cyberzagrożeniami. \nWydarzenie odbędzie się w poniedziałek 30 października 2023 roku w godz. 10:00 – 11:00. W spotkaniu udział wezmą: Tomasz Klekowski (Doradca zarządów w zakresie cyfrowej transformacji przedsiębiorstw\, gospodarki i społeczeństwa\, Sektorowej Rady ds. Kompetencji Telekomunikacja i Cyberbezpieczeństwo) oraz prezes małopolskiego oddziału IFR Rafał Kunaszyk (Eurokreator S.C.) jako moderator. \n\n\n\n\nWEŹ UDZIAŁ W WEBINARIUM\n\n\n\n\n\n\nInstrukcja udziału w webinarium przez ClickMeeting [PDF]\n\n\n\n\nSerdecznie zapraszamy do udziału w bezpłatnym webinarium. Transmisja on-line odbędzie się na platformie ClickMeeting. Po wystąpieniu ekspertów przewidziana jest także sesja pytań i odpowiedzi. \n Do usłyszenia! \n\n\n\nPROWADZĄCY\n\n\n\nTomasz Klekowski – Jest twórcą studiów Biznes.AI prowadzonych na Akademii Leona Koźmińskiego. Działa na rzecz gospodarki będąc Członkiem Rady Fundacji Platforma Przemysłu Przyszłości. Wspiera Konfederację Lewiatan\, Sektorowe Rady ds. Kompetencji Telekomunikacja i Cyberbezpieczeństwo oraz  Informatyka\, jest Ambasadorem i Członkiem Kolegium projektu PoLAND of IT Masters oraz Członkiem Rady Programowej Konkursu Fabryka Przyszłości. Uczestniczy w pracach GRAI (Grupy Roboczej ds. Sztucznej Inteligencji) jako lider jednej z podgrup. Współpracuje z think tankami w Polsce i zagranicą\, jest Partnerem Think-Tank.pl oraz jednym z założycieli międzynarodowej społeczności Intelligent Leadership Hub. Został wyróżniony przez Polskie Towarzystwo Informatyczne\, jako jedna z osób o największym wpływie na rozwój kompetencji cyfrowych w Polsce. Autor raportów i artykułów\, wykładowca\, prelegent i mentor. Wspiera startupy i fundusze VC. Odpowiadał za rozwój rynku Data Center i Internetu Rzeczy w regionie EMEA w firmie Intel\, kierując pracami zespołów zajmujących się między innymi: sztuczną inteligencją\, analityką danych\, chmurą oraz cyberbezpieczeństwem. Kierował przez wiele lat organizacją Intela w Europie Środkowo-Wschodniej. Jest absolwentem Politechniki Wrocławskiej oraz INSEAD. \nRafał Kunaszyk – Prezes oddziału małopolskiego Stowarzyszenia Inicjatywa Firm Rodzinnych. Współwłaściciel firm rodzinnych Eurokreator s.c. i Eurokreator T&C\, Przewodniczący Komisji Kompetencyjnej Stowarzyszenia Inicjatywa Firm Rodzinnych\, ekspert ds. edukacji\, rynku pracy\, trener i doradca zarządzania\, zajmuje się rozwojem kompetencji i kwalifikacji. Trener w zakresie komunikacji\, kreatywności\, partnerstw\, rozwoju projektów innowacyjnych\, współpracy biznes-nauka\, członek Rady Fundatorów i Rady Programowej Klastra Life-Science\, ekspert Fundacji Platforma Przemysłów Przyszłości.
URL:https://firmyrodzinne.pl/kalendarz/cyberbezpieczenstwo-perspektywa-dla-zarzadzajacych/
CATEGORIES:IFR
ORGANIZER;CN="Inicjatywa%20Firm%20Rodzinnych":MAILTO:sekretariat@firmyrodzinne.pl
END:VEVENT
END:VCALENDAR