BEGIN:VCALENDAR
VERSION:2.0
PRODID:-//Stowarzyszenie Inicjatywa Firm Rodzinnych - ECPv5.16.4//NONSGML v1.0//EN
CALSCALE:GREGORIAN
METHOD:PUBLISH
X-WR-CALNAME:Stowarzyszenie Inicjatywa Firm Rodzinnych
X-ORIGINAL-URL:https://firmyrodzinne.pl
X-WR-CALDESC:Wydarzenia dla Stowarzyszenie Inicjatywa Firm Rodzinnych
BEGIN:VTIMEZONE
TZID:Europe/Warsaw
BEGIN:DAYLIGHT
TZOFFSETFROM:+0100
TZOFFSETTO:+0200
TZNAME:CEST
DTSTART:20240331T010000
END:DAYLIGHT
BEGIN:STANDARD
TZOFFSETFROM:+0200
TZOFFSETTO:+0100
TZNAME:CET
DTSTART:20241027T010000
END:STANDARD
END:VTIMEZONE
BEGIN:VEVENT
DTSTART;TZID=Europe/Warsaw:20240528T180000
DTEND;TZID=Europe/Warsaw:20240528T230000
DTSTAMP:20260423T200653
CREATED:20240515T093832Z
LAST-MODIFIED:20240521T090745Z
UID:15645-1716919200-1716937200@firmyrodzinne.pl
SUMMARY:BIZNES po łódzku
DESCRIPTION:„BIZNES po łódzku” to spotkanie biznesowe\, które odbędzie się 28 maja 2024 roku w OFF Piotrkowska Centre (Roosevelta 8\, 90-056 ŁÓDŹ)\, miejscu niezwykłym – łączącym w sobie biznesowy prestiż\, niesamowitą atmosferę\, kreatywność oraz wyśmienitą kuchnię. Stowarzyszenie Inicjatywa Firm Rodzinnych ma niebywałą przyjemność współtworzyć to wydarzenie! \nWydarzenie zgromadzi w jednym miejscu przedsiębiorców zrzeszonych w pięciu organizacjach działających na terenie województwa łódzkiego: \n\nBusiness Centre Club\nKlaster LODZistics\nŁódzki Klaster ICT\nWidzewski Klub Biznesu\nInicjatywa Firm Rodzinnych\n\nPartnerem wydarzenia jest OPG Property Professionals jako gospodarz miejsca. Zaproszenie również przekazaliśmy do Urzędu Miasta Łodzi i Urzędu Marszałkowskiego. \n„BIZNES po łódzku” to doskonała okazja do spotkania czołowych przedsiębiorców z regionu łódzkiego – prezesów\, członków kadry zarządzającej oraz właścicieli firm. Z każdej firmy w spotkaniu mogą wziąć udział max 2 osoby! \nInspiracją dla naszego spotkania jest formuła „speed dating” – szybkich randek. Przedsiębiorcy będą zasiadać przy okrągłych stołach\, gdzie kolejno prezentować będą swoje firmy. Każdy ma na to 2 minuty\, po czym następuje rotacja\, a uczestnicy przechodzą do kolejnych stołów\, by przedstawić się nowym osobom. Dodatkowo\, dzięki specjalnie przygotowanej platformie Meeting15\, uczestnicy będą mieli możliwość umawiania się na indywidualne spotkania 1:1 oraz wymianę korespondencji. \nNie tylko biznesowe rozmowy będą w centrum uwagi tego wydarzenia. Podczas spotkania poruszane będą także ważne tematy\, a uczestnicy będą mieli okazję do integracji przy lampce wina i przekąskach. \nTego dnia warto być z nami\, by połączyć przyjemne z pożytecznym i znaleźć nowych partnerów biznesowych w kameralnej i inspirującej atmosferze Off Piotrkowska Centre. \n  \n\n\n\nREJESTRACJA\n\n\n\n\n\n\n\nAGENDA\n\n\n17:30–18:00\nRejestracja uczestników\n\n\n18:00–18:10\nOficjalne rozpoczęcie spotkania\n\n\n18:10–18:30\n„Off Piotrkowska – mieszanka Biznesu\, Rozrywki i Kreatywności” Michał Styś\, Prezes OPG Property Professionals\n\n\n18:30–19:20\n„Digital Transformation – czyli jak rozwinąć potencjał firmy” – KLASTER ICT\n\n\n19:20–19:30\nPrzerwa\n\n\n19:30–19:50\n“Mindset Lidera” Mateusz Stypułkowski\, Prezes Business-land\n\n\n20:00–21:00\nBusiness Mixer (3 rundy)\n\n\n21:00–23:00\nNetworking przy lampce wina z muzyka w tle
URL:https://firmyrodzinne.pl/kalendarz/biznes-po-lodzku/
LOCATION:OFF Piotrkowska Centre\, Roosevelta 8\, Łódź\, 90-056
CATEGORIES:IFR
ORGANIZER;CN="Inicjatywa%20Firm%20Rodzinnych":MAILTO:sekretariat@firmyrodzinne.pl
END:VEVENT
END:VCALENDAR