BEGIN:VCALENDAR
VERSION:2.0
PRODID:-//Stowarzyszenie Inicjatywa Firm Rodzinnych - ECPv5.16.4//NONSGML v1.0//EN
CALSCALE:GREGORIAN
METHOD:PUBLISH
X-WR-CALNAME:Stowarzyszenie Inicjatywa Firm Rodzinnych
X-ORIGINAL-URL:https://firmyrodzinne.pl
X-WR-CALDESC:Wydarzenia dla Stowarzyszenie Inicjatywa Firm Rodzinnych
BEGIN:VTIMEZONE
TZID:Europe/Warsaw
BEGIN:DAYLIGHT
TZOFFSETFROM:+0100
TZOFFSETTO:+0200
TZNAME:CEST
DTSTART:20240331T010000
END:DAYLIGHT
BEGIN:STANDARD
TZOFFSETFROM:+0200
TZOFFSETTO:+0100
TZNAME:CET
DTSTART:20241027T010000
END:STANDARD
END:VTIMEZONE
BEGIN:VEVENT
DTSTART;VALUE=DATE:20240610
DTEND;VALUE=DATE:20240613
DTSTAMP:20260422T211255
CREATED:20240301T104231Z
LAST-MODIFIED:20240402T130011Z
UID:15094-1717977600-1718236799@firmyrodzinne.pl
SUMMARY:XIV Europejski Kongres Finansowy
DESCRIPTION:Zapraszamy do udziału w XIV Europejskim Kongresie Finansowym\, którego partnerem instytucjonalnym została Inicjatywa Firm Rodzinnych. Europejski Kongres Finansowy to jedno z najważniejszych spotkań świata finansów w Polsce. Motto EKF 2024: “Czy chcemy jeszcze się ścigać?”. Spotkajmy się w Sopocie (Hotel Sheraton) w dniach 10-12 czerwca 2024 roku. \n\nCzłonkowie Stowarzyszenia Inicjatywa Firm Rodzinnych otrzymują 30% zniżki przy rejestracji udziału w Kongresie. \nAby zgłosić uczestnictwo i dokonać rejestracji w formularzu rejestracyjnym w miejscu „Rodzaj uczestnictwa” prosimy wybrać opcję „Partner”\, a następnie wpisać hasło otrzymane w naszym mailingu. Można je także uzyskać w sekretariacie: sekretariat@firmyrodzinne.pl \n\nUczestnikami EKF są menedżerowie najwyższych szczebli\, decydenci kształtujący politykę gospodarczą i przedstawiciele nauki. W Kongresie udział biorą nie tylko prezesi wiodących polskich instytucji finansowych lecz także polscy i zagraniczni politycy. Wśród uczestników wyróżnić można duże grupy ekspertów ds. polityki gospodarczej\, uznanych makroekonomistów\, menedżerów sektorów: bankowości i rynku kapitałowego\, ubezpieczeń\, konsultingowego i prawnego\, innowacji i IT a także infrastruktury i budownictwa. \nKongres zaprasza do nieskrępowanej debaty na temat stabilności europejskiego i polskiego systemu finansowego\, a także wypracowania rekomendacji w zakresie rozwiązań systemowych dotyczących bezpiecznego i zrównoważonego rozwoju. \nPodczas trzech dni Kongres zaprasza m.in. do rozmów o: \n\n koniecznym poszukiwaniu równowagi między korzyściami i ryzykiem dla klientów instytucji finansowych\,\n cyberbezpieczeństwie\, bezpiecznym obiegu danych i dalszej cyfryzacji sfery komercyjnej i publicznej\,\n wyzwaniach związanych z finansowaniem wielkich projektów inwestycyjnych (transformacja energetyczna\, w tym energetyka jądrowa\, wydatki zbrojeniowe\, udział polskich firm w odbudowie Ukrainy)\n AI – czy rzeczywiście w krótkim czasie będziemy mieli odczuwalną rewolucję w procesach\, obsłudze klienta\, usługach serwisowych\,\n możliwościach wspierania konkurencyjności przedsiębiorstw przez sektor bankowy\, ubezpieczeniowy i rynek kapitałowy\,\n działaniach na rzecz wzrostu wiarygodności ekonomicznej Polski\,\n finansowaniu wdrażania ESG\, a w szczególności zielonej transformacji\,\n stymulowaniu wzrostu oszczędności długookresowych i inwestycji\,\n finansowaniu zrównoważonego rozwoju rynku nieruchomości\,\n racjonalizacji polityki mieszkaniowej i imigracyjnej\,\n działaniach dla wzrostu atrakcyjności inwestycyjnej Polski i UE.\n\nJak co roku\, wyłącznie na EKF: \n\nMakroekonomiczny okrągły stół EKF – mapa wyzwań 2024-2027\nTechnologiczny okrągły stół EKF – mapa wyzwań dla sektora bankowego 2024-2027\nOkrągły stół CRO. Ryzyko bankowe – mapa wyzwań dla sektora bankowego\nDebata Prezesów. Mapa wyzwań dla sektora bankowego\n\n\n\n\n\nREJESTRACJA
URL:https://firmyrodzinne.pl/kalendarz/xiv-europejski-kongres-finansowy/
LOCATION:Hotel Sheraton Sopot\, Powstańców Warszawy 10\, Sopot\, 81-718\, Polska
CATEGORIES:Projekty
ORGANIZER;CN="Centrum%20My%C5%9Bli%20Strategicznych":MAILTO:kontakt@fundacjacms.pl
END:VEVENT
END:VCALENDAR