BEGIN:VCALENDAR
VERSION:2.0
PRODID:-//Stowarzyszenie Inicjatywa Firm Rodzinnych - ECPv5.16.4//NONSGML v1.0//EN
CALSCALE:GREGORIAN
METHOD:PUBLISH
X-WR-CALNAME:Stowarzyszenie Inicjatywa Firm Rodzinnych
X-ORIGINAL-URL:https://firmyrodzinne.pl
X-WR-CALDESC:Wydarzenia dla Stowarzyszenie Inicjatywa Firm Rodzinnych
BEGIN:VTIMEZONE
TZID:Europe/Paris
BEGIN:DAYLIGHT
TZOFFSETFROM:+0100
TZOFFSETTO:+0200
TZNAME:CEST
DTSTART:20160327T010000
END:DAYLIGHT
BEGIN:STANDARD
TZOFFSETFROM:+0200
TZOFFSETTO:+0100
TZNAME:CET
DTSTART:20161030T010000
END:STANDARD
END:VTIMEZONE
BEGIN:VEVENT
DTSTART;TZID=Europe/Paris:20161213T180000
DTEND;TZID=Europe/Paris:20161213T230000
DTSTAMP:20260424T114022
CREATED:20161112T165747Z
LAST-MODIFIED:20161112T170527Z
UID:2572-1481652000-1481670000@firmyrodzinne.pl
SUMMARY:Biznes polega na chwytaniu okazji
DESCRIPTION:Temat: Biznes polega na chwytaniu okazji\, a Twój biznes polega na Tobie \n \nNa spotkaniu przedstawione zostaną praktyczne wskazówki\, jak prowadzić swoją firmę\, będąc cały czas otwartym na nowe możliwości. Liczymy\, że będą one inspiracją do zrobienia kolejnego kroku w rozwoju własnego biznesu. \nSwoim doświadczeniem podzielą się: \n\nGrzegorz Albrecht  – Podpowie\, gdzie szukać inspiracji do rozwoju i jak wykorzystać nadarzające się okazje\, aby z sukcesem rozwijać swoją firmę. Jego doświadczenie pokazuje\, że nawet małe zmiany mogą spowodować zauważalny pozytywny efekt.\nJakub B. Bączek – Naładuje pozytywną energią\, udzieli praktycznych wskazówek\, które pomogą stawić czoła każdemu wyzwaniu. Postara się natchnąć do czerpania większej radości z prowadzenia własnego biznesu.\n\nPo części oficjalnej (około godz. 21.00) zapraszamy na bankiet z poczęstunkiem\, na którym będzie można uzyskać indywidualną poradę naszych ekspertów. \n\nDokumenty do pobrania: \n\nFormularz zgłoszeniowy\nZaproszenie
URL:https://firmyrodzinne.pl/kalendarz/biznes-polega-na-chwytaniu-okazji/
LOCATION:Resursa\, 1 Maja 45\, Żyrardów\, 96-300\, Polska
CATEGORIES:IFR
ORGANIZER;CN="Inicjatywa%20Firm%20Rodzinnych":MAILTO:sekretariat@firmyrodzinne.pl
END:VEVENT
END:VCALENDAR