BEGIN:VCALENDAR
VERSION:2.0
PRODID:-//Stowarzyszenie Inicjatywa Firm Rodzinnych - ECPv5.16.4//NONSGML v1.0//EN
CALSCALE:GREGORIAN
METHOD:PUBLISH
X-WR-CALNAME:Stowarzyszenie Inicjatywa Firm Rodzinnych
X-ORIGINAL-URL:https://firmyrodzinne.pl
X-WR-CALDESC:Wydarzenia dla Stowarzyszenie Inicjatywa Firm Rodzinnych
BEGIN:VTIMEZONE
TZID:Europe/Warsaw
BEGIN:DAYLIGHT
TZOFFSETFROM:+0100
TZOFFSETTO:+0200
TZNAME:CEST
DTSTART:20190331T010000
END:DAYLIGHT
BEGIN:STANDARD
TZOFFSETFROM:+0200
TZOFFSETTO:+0100
TZNAME:CET
DTSTART:20191027T010000
END:STANDARD
END:VTIMEZONE
BEGIN:VEVENT
DTSTART;TZID=Europe/Warsaw:20190912T110000
DTEND;TZID=Europe/Warsaw:20190912T150000
DTSTAMP:20260422T022017
CREATED:20190902T122334Z
LAST-MODIFIED:20190902T131526Z
UID:6659-1568286000-1568300400@firmyrodzinne.pl
SUMMARY:Budowanie wielopokoleniowych biznesów
DESCRIPTION:  \nStowarzyszenie IFR\, Koło Kujawsko-Pomorskie IFR oraz Bank BNP Paribas zapraszają na wrześnionwe spotkanie firm rodzinnych w Bydgoszczy\, podczas którego porozmawiamy o budowaniu długofalowej polityki firmy\, tak by przetrwała ona całe pokolenia. Partnerem wydarzenia została Bydgoska Agencja Rozwoju Regionalnego. \n\nPodkreślenie istotnych aspektów i ryzyk długoterminowego budowania majątku rodzinnego i firmowego \nNa spotkaniu zaprezentujemy wyniki aktualnych badań dotyczących wiedzy na temat procesu budowania i przekazywania majątku wśród polskich przedsiębiorców i ich następców. Uczestnicy będą mogli zapoznać się z interesującymi wnioskami (np. ogromne różnice w postrzeganiu zaawansowania procesu sukcesji między seniorami a następcami) oraz z różnicami w podejściu do procesu budowania majątku na  w krajach Zachodu. Porozmawiamy również o najważniejszych problemach\, jakie mogą wystąpić w tym procesie. \nEksperci BNP Paribas zaprezentują również zasady długoterminowego podejścia do budowania majątku rodzinnego obok rozwijania i inwestowania w samą firmę rodzinną. \n\nPRELEGENCI \nWojciech Fedoruk – Doradca podatkowy z kilkunastoletnim doświadczeniem. W latach 2007-2012 członek zespołu Podatkowego Doradztwa Transakcyjnego w dziale doradztwa podatkowego EY. Od 2012 r. związany z BNP Paribas Wealth Management\, w którym odpowiada za planowanie majątkowe. Specjalizuje się w zagadnieniach planowania spadkowego i planowania sukcesji w firmach rodzinnych z uwzględnieniem kontekstu międzynarodowego. Koordynuje współpracę z działami planowania majątkowego z innych banków z Grupy BNP Paribas. Autor artykułów z tematyki podatkowej oraz planowania sukcesji\, publikowanych w prasie ogólnopolskiej. \nJerzy Nikorowski – W pierwszych latach kariery zawodowej związany z J.P. Morgan & Chase w Irlandii\, gdzie z miał okazję poznać szczegółowe zasady funkcjonowania rynku instrumentów pochodnych oraz ich wykorzystania w konstrukcji instrumentów finansowych. Pracował także jako analityk i zarządzający funduszami w Superfund TFI SA\, jednocześnie odpowiadając za nadzór nad hedgingiem walutowym funduszy tego TFI w Polsce. Wiedzę tę ma okazję zastosować przy tworzeniu rozmaitych strategii inwestycyjnych za pośrednictwem produktów ustrukturyzowanych oferowanych klientom Banku BNP Paribas. Odpowiada za nadzór nad zespołami: zarządzania aktywami klientów; doradztwa inwestycyjnego oraz transakcji na rynku giełdowym. Jest także przewodniczącym Komitetu Inwestycyjnego Biura Maklerskiego BNP Paribas. Specjalistyczne wykształcenie zdobywał na uczelniach w Polsce\, Danii oraz Francji. Posiada licencję Doradcy Inwestycyjnego nr 419\, tytuł CFA oraz licencję Maklera Papierów Wartościowych nr 2394. \n  \n\n\n\n\n\nREJESTRACJA\n\n\n\n\n(Osoby zainteresowane prosimy o rejestrację najpóźniej do wtorku 10 września 2019)
URL:https://firmyrodzinne.pl/kalendarz/budowanie-wielopokoleniowych-biznesow/
LOCATION:Arkada-Invest\, Fordońska 2\, Bydgoszcz\, 85-085\, Polska
CATEGORIES:IFR
ORGANIZER;CN="Inicjatywa%20Firm%20Rodzinnych":MAILTO:sekretariat@firmyrodzinne.pl
END:VEVENT
END:VCALENDAR