BEGIN:VCALENDAR
VERSION:2.0
PRODID:-//Stowarzyszenie Inicjatywa Firm Rodzinnych - ECPv5.16.4//NONSGML v1.0//EN
CALSCALE:GREGORIAN
METHOD:PUBLISH
X-WR-CALNAME:Stowarzyszenie Inicjatywa Firm Rodzinnych
X-ORIGINAL-URL:https://firmyrodzinne.pl
X-WR-CALDESC:Wydarzenia dla Stowarzyszenie Inicjatywa Firm Rodzinnych
BEGIN:VTIMEZONE
TZID:Europe/Warsaw
BEGIN:DAYLIGHT
TZOFFSETFROM:+0100
TZOFFSETTO:+0200
TZNAME:CEST
DTSTART:20240331T010000
END:DAYLIGHT
BEGIN:STANDARD
TZOFFSETFROM:+0200
TZOFFSETTO:+0100
TZNAME:CET
DTSTART:20241027T010000
END:STANDARD
END:VTIMEZONE
BEGIN:VEVENT
DTSTART;TZID=Europe/Warsaw:20240411T100000
DTEND;TZID=Europe/Warsaw:20240411T113000
DTSTAMP:20260421T153241
CREATED:20240326T120253Z
LAST-MODIFIED:20240403T085728Z
UID:15235-1712829600-1712835000@firmyrodzinne.pl
SUMMARY:Efektywne zarządzanie infrastrukturą IT
DESCRIPTION:W dzisiejszym\, dynamicznie zmieniającym się świecie cyfrowym\, zdolność do optymalizacji i automatyzacji procesów biznesowych stała się kluczowym elementem sukcesu każdej firmy. W trakcie naszego webinaru zaprezentujemy praktyczne zastosowanie w organizacjach wybranych rozwiązań IT\, takich jak: Exchange Online\, SharePoint\, Power Platform\, Intune\, Veeam czy Mail Store. \nWraz z firmą rodzinną DNR Group Sp. z o.o. zapraszamy na czwarte wspólnie przygotowane webinarium IFR pt. „Efektywne zarządzanie infrastrukturą IT w firmie. Analiza przypadku z wykorzystaniem wybranych narzędzi do optymalizacji i automatyzacji procesów„\, które odbędzie się w czwartek 11 kwietnia w godz. 10:00-11:30. \nWydarzenie poprowadzi Damian Rokicki –  Współwłaściciel DNR Group Sp. z o.o.\, architekt systemów informatycznych oraz specjalista do spraw bezpieczeństwa. \n\n\n\n\nWEŹ UDZIAŁ W WEBINARIUM\n\n\n\n\n\n\nInstrukcja udziału w webinarium przez ClickMeeting [PDF]\n\n\n\n\nPodczas webinarium dowiesz się\, że Exchange Online jest fundamentem dla niezawodnej i bezpiecznej komunikacji biznesowej\, dostępnej z dowolnego miejsca\, przy jednoczesnym obniżeniu kosztów utrzymania IT. SharePoint zapewnia centralizację zarządzania dokumentami i umożliwia efektywniejszą współpracę\, podnosząc produktywność zespołów. Power Platform otwiera nowe możliwości szybkiego tworzenia aplikacji\, automatyzacji procesów i analizy danych\, przyspieszając innowacje. Intune umożliwia scentralizowane zarządzanie urządzeniami i aplikacjami\, zwiększając bezpieczeństwo danych firmowych. Veeam oferuje niezawodne zarządzanie kopiami zapasowymi i odzyskiwaniem danych\, co jest kluczowe dla ciągłości działania biznesu. Mail Store z kolei zapewnia zaawansowane rozwiązania do archiwizacji e-maili\, co jest istotne dla spełniania wymogów prawnych i optymalizacji systemów pocztowych (w tym optymalizacji miejsca tj. wielkość skrzynek pocztowych). Umożliwia też szybkie przeszukiwanie treści wiadomości w całej organizacji\, co znacząco poprawia zarządzanie informacjami i wydajność pracy. \nKażde z narzędzi\, które przedstawimy\, odgrywa kluczową rolę w modernizacji\, zabezpieczeniu i optymalizacji procesów biznesowych w firmie. Ich integracja i zastosowanie w praktyce przekładają się na zwiększenie efektywności operacyjnej\, lepsze zarządzanie ryzykiem oraz szybsze dostosowanie do zmieniających się warunków rynkowych\, otwierając tym samym drogę do innowacji i rozwoju. \nSerdecznie zapraszamy do udziału w bezpłatnym webinarium. Transmisja on-line odbędzie się na platformie ClickMeeting. Po wystąpieniu prelegentów przewidziana jest także sesja pytań i odpowiedzi. \n Do zobaczenia! \n  \n\n\n\nPROWADZĄCY\n\n\n\nDamian Rokicki – Współwłaściciel firmy DNR Group Sp. z o.o. Architekt Systemów Informatycznych oraz ekspert w dziedzinie bezpieczeństwa IT. \nPraktyk z wieloletnim doświadczeniem\, niezależny konsultant. Współpracował z czołowymi dostawcami usług IT\, takimi jak IBM\, Atos\, HP\, Dell oraz Manta Multimedia\, co przełożyło się na specjalistyczną wiedzę\, holistyczne podejście do projektowania i zarządzanie złożonymi infrastrukturami IT. Dzięki pasji i zaangażowaniu\, codziennie projektuje i nadzoruje sieci teleinformatyczne\, które stanowią fundament dla osiągania najwyższej jakości operacyjnej w dynamicznie zmieniającym się środowisku biznesowym. Specjalizuje się w zarządzaniu szeroką gamą infrastruktur IT\, od serwerów fizycznych po zaawansowane sieci informatyczne\, gwarantując ich wysoką dostępność i niezawodność. Poza pracą zawodową\, jest miłośnikiem jazdy motocyklem oraz żeglarstwa. Szczęśliwy mąż i ojciec Zuzanny. \n 
URL:https://firmyrodzinne.pl/kalendarz/efektywne-zarzadzanie-infrastruktura-it/
CATEGORIES:IFR
ORGANIZER;CN="Inicjatywa%20Firm%20Rodzinnych":MAILTO:sekretariat@firmyrodzinne.pl
END:VEVENT
END:VCALENDAR