BEGIN:VCALENDAR
VERSION:2.0
PRODID:-//Stowarzyszenie Inicjatywa Firm Rodzinnych - ECPv5.16.4//NONSGML v1.0//EN
CALSCALE:GREGORIAN
METHOD:PUBLISH
X-WR-CALNAME:Stowarzyszenie Inicjatywa Firm Rodzinnych
X-ORIGINAL-URL:https://firmyrodzinne.pl
X-WR-CALDESC:Wydarzenia dla Stowarzyszenie Inicjatywa Firm Rodzinnych
BEGIN:VTIMEZONE
TZID:Europe/Warsaw
BEGIN:DAYLIGHT
TZOFFSETFROM:+0100
TZOFFSETTO:+0200
TZNAME:CEST
DTSTART:20240331T010000
END:DAYLIGHT
BEGIN:STANDARD
TZOFFSETFROM:+0200
TZOFFSETTO:+0100
TZNAME:CET
DTSTART:20241027T010000
END:STANDARD
END:VTIMEZONE
BEGIN:VEVENT
DTSTART;VALUE=DATE:20240521
DTEND;VALUE=DATE:20240522
DTSTAMP:20260424T113310
CREATED:20240516T111028Z
LAST-MODIFIED:20240516T112433Z
UID:15675-1716249600-1716335999@firmyrodzinne.pl
SUMMARY:Firmy rodzinne – szanse i zagrożenia | Senat RP
DESCRIPTION:Przedsiębiorcy Rodzinni\, mija rok od wejścia w życie ustawy o fundacji rodzinnej. Senat Rzeczypospolitej Polskiej z tej okazji organizuje w dniu 21 maja 2024 roku posiedzenie Zespołu ds. zrównoważonego rozwoju poświęcone tematowi „Firmy rodzinne – szanse i zagrożenia w dobie dynamicznych zmian”. Tomasz Budziak (Wiceprezes Stowarzyszenia Inicjatywa Firm Rodzinnych) został zaproszony do grona mówców w celu przedstawienia „Diagnozy sytuacji firm rodzinnych”. \nNastępnie wraz innymi zaproszonymi ekspertami oraz przedstawicielami władz odbędzie się dyskusja mająca na celu sformułowanie wniosków i postulatów. Zdamy relację z przebiegu i rezultatów spotkania po jego zakończeniu. \nInicjatywa Firm Rodzinnych ma swoją agendę spraw\, którą systematycznie realizuje. Opiera się ona na Manifeście Firm Rodzinnych. Jednak kierując się zasadą bliskiego i bezpośredniego kontaktu naszego Stowarzyszenia z polskim biznesem rodzinnym\, chcielibyśmy zapytać przedstawicieli biznesu rodzinnego o sprawy i postulaty\, które możemy przedstawić do dyskusji i wypracowania rozwiązań. Tak\, aby głos polskich przedsiębiorców rodzinnych był jak najbardziej słyszalny i merytoryczny. \n Zachęcamy do przesyłania tematów i spraw (na adres sekretariat@firmyrodzinne.pl)\, które Waszym zdaniem warto poruszyć na posiedzeniu zespołu.
URL:https://firmyrodzinne.pl/kalendarz/firmy-rodzinne-szanse-i-zagrozenia/
CATEGORIES:Projekty
END:VEVENT
END:VCALENDAR