BEGIN:VCALENDAR
VERSION:2.0
PRODID:-//Stowarzyszenie Inicjatywa Firm Rodzinnych - ECPv5.16.4//NONSGML v1.0//EN
CALSCALE:GREGORIAN
METHOD:PUBLISH
X-WR-CALNAME:Stowarzyszenie Inicjatywa Firm Rodzinnych
X-ORIGINAL-URL:https://firmyrodzinne.pl
X-WR-CALDESC:Wydarzenia dla Stowarzyszenie Inicjatywa Firm Rodzinnych
BEGIN:VTIMEZONE
TZID:Europe/Warsaw
BEGIN:DAYLIGHT
TZOFFSETFROM:+0100
TZOFFSETTO:+0200
TZNAME:CEST
DTSTART:20190331T010000
END:DAYLIGHT
BEGIN:STANDARD
TZOFFSETFROM:+0200
TZOFFSETTO:+0100
TZNAME:CET
DTSTART:20191027T010000
END:STANDARD
END:VTIMEZONE
BEGIN:VEVENT
DTSTART;VALUE=DATE:20190607
DTEND;VALUE=DATE:20190610
DTSTAMP:20260422T070833
CREATED:20190424T115007Z
LAST-MODIFIED:20190424T134134Z
UID:6061-1559865600-1560124799@firmyrodzinne.pl
SUMMARY:IV Zlot Sukcesorów
DESCRIPTION:  \nSerdecznie zapraszamy na tegoroczną edycję naszego wyjątkowego wydarzenia dla sukcesorów: \nIV ZLOT SUKCESORÓW \n7-9 czerwca 2019  |  OSADA KARBÓWKO\, CIECHOCIN \nZlot Sukcesorów to wydarzenie organizowane dla sukcesorów firm rodzinnych\, czyli młodego pokolenia\, które jest przed\, w trakcie lub po przejęciu sterów w rodzinnych biznesach. Wydarzenie skierowane jest do przedsiębiorców w wieku od 25 lat. Celem Zlotu jest dzielenie się motywacją\, wiedzą i doświadczeniem związanym z prowadzeniem coraz lepszej firmy oraz z niełatwym procesem\, jakim jest zmiana pokoleniowa. \nZlot Sukcesorów jest cyklicznie organizowany przez samych sukcesorów\, a w tym roku odbędzie się już czwarta edycja tego wydarzenia! \nHasło IV edycji Zlotu Sukcesorów:\n„Firmy Rodzinne liderem na rynku pracy?” \n\n\n\nZAREJESTRUJ SIĘ\n\n\n\n\nZarejestruj się już teraz i skorzystaj z promocji Early Bird! \nWięcej informacji i ceny biletów w zakładce REJESTRACJA na stronie: sukcesorzy.pl \n\n\nTo wydarzenie jest dla Ciebie\, jeśli jesteś: \n\nsukcesorem\, który przejął/szykuje się do przejęcia firmy rodzinnej\,\nsukcesorem\, który wybrał inną drogę lub waha się co dalej\,\nzaangażowanym w firmę rodzinną partnerem/partnerką sukcesora\,\n\na także jeśli chcesz: \n\npoznać ciekawych ludzi\,\ndzielić się doświadczeniami\, jak lepiej prowadzić rodzinną firmę\,\ndowiedzieć się\, jak inni radzą sobie ze zmianą pokoleniową\,\nspędzać czas z ludźmi o podobnych wyzwaniach i troskach\,\nodpocząć i pomóc innym.\n\n\nW tym roku spotykamy się w Osadzie Karbówko Wellness & SPA\nwww.osadakarbowko.pl
URL:https://firmyrodzinne.pl/kalendarz/iv-zlot-sukcesorow/
LOCATION:Osada Karbówko Wellness & SPA\, Elgiszewo 37\, Ciechocin\, 87-408\, Polska
CATEGORIES:IFR
ORGANIZER;CN="Inicjatywa%20Firm%20Rodzinnych":MAILTO:sekretariat@firmyrodzinne.pl
END:VEVENT
END:VCALENDAR