BEGIN:VCALENDAR
VERSION:2.0
PRODID:-//Stowarzyszenie Inicjatywa Firm Rodzinnych - ECPv5.16.4//NONSGML v1.0//EN
CALSCALE:GREGORIAN
METHOD:PUBLISH
X-WR-CALNAME:Stowarzyszenie Inicjatywa Firm Rodzinnych
X-ORIGINAL-URL:https://firmyrodzinne.pl
X-WR-CALDESC:Wydarzenia dla Stowarzyszenie Inicjatywa Firm Rodzinnych
BEGIN:VTIMEZONE
TZID:Europe/Warsaw
BEGIN:DAYLIGHT
TZOFFSETFROM:+0100
TZOFFSETTO:+0200
TZNAME:CEST
DTSTART:20190331T010000
END:DAYLIGHT
BEGIN:STANDARD
TZOFFSETFROM:+0200
TZOFFSETTO:+0100
TZNAME:CET
DTSTART:20191027T010000
END:STANDARD
END:VTIMEZONE
BEGIN:VEVENT
DTSTART;VALUE=DATE:20190604
DTEND;VALUE=DATE:20190606
DTSTAMP:20260422T085121
CREATED:20190510T102854Z
LAST-MODIFIED:20190517T092500Z
UID:6130-1559606400-1559779199@firmyrodzinne.pl
SUMMARY:Kongres Sukcesja.pl
DESCRIPTION:  \nW imieniu naszego partnera strategicznego\, Kancelarii Ożóg Tomczykowski\, serdecznie zapraszamy na interesujące wydarzenia dla dużych firm rodzinnych pt. „Kongres Sukcesja.pl„. Jak sugeruje nazwa wydarzenie będzie poświęcone jednemu z najważniejszych procesów w życiu biznesu rodzinnego – planowania sukcesji. \nKongres-Sukcesja.pl został stworzony z myślą o właścicielach dużych firm rodzinnych i ich sukcesorach\, którzy odpowiedzialnie podchodzą do jednego z najważniejszych procesów w życiu biznesu rodzinnego – planowania sukcesji. Założeniem procesu sukcesji jest zapewnienie przedsiębiorstwu trwałości w obliczu trudnych i nieuniknionych zmian pokoleniowych\, a to wymaga starannego zaplanowania oraz dobrania odpowiednich narzędzi\, zabezpieczających interesy wszystkich stron. Kongres jest unikalną okazją\, aby korzystając z wiedzy i doświadczenia ekspertów rozpocząć przygotowania do przeprowadzenia sukcesji. \n  \n\n\n\nREJESTRACJA\n\n\n\n\n\n\nAgenda wydarzenia [PDF]\n\n\n\nDlaczego warto być na Kongresie? \n\nDwa dni wypełnione wiedzą ekspercką opartą na doświadczeniach polskich przedsiębiorców.\nWykłady\, które inspirują i zmieniają myślenie o sukcesji.\nNiepowtarzalna okazja do poznania przedstawicieli rodzinnych biznesów\, wymiany poglądów i doświadczeń\, a także licznych dyskusji o sukcesji.\nSukcesyjne case studies oraz wystąpienia praktyków biznesu.\nPraktyczne wskazówki\, worek pomysłów oraz rozwiązania gotowe do wdrożenia w biznesie.\n\n\nW imieniu naszego Stowarzyszenia w Kongresie weźmie udział Ewa Sobkiewicz (Prezes Zarządu IFR) prowadząc panel „Największe problemy sukcesyjne polskich przedsiębiorców” oraz Aleksandra Jasińska-Kloska (Przewodnicząca Komisji Rewizyjnej IFR) w panelu przedsiębiorców: „Sukcesja po polsku”. \n\nSerdecznie zapraszamy!
URL:https://firmyrodzinne.pl/kalendarz/kongres-sukcesja-pl/
LOCATION:Hotel Indigo Warsaw Nowy Świat\, ul. Smolna 40\, Warszawa\, 00-375\, Polska
CATEGORIES:Inne
ORGANIZER;CN="Kancelaria%20O%C5%BC%C3%B3g%20Tomczykowski":MAILTO:kontakt@ozogtomczykowski.pl
END:VEVENT
END:VCALENDAR