BEGIN:VCALENDAR
VERSION:2.0
PRODID:-//Stowarzyszenie Inicjatywa Firm Rodzinnych - ECPv5.16.4//NONSGML v1.0//EN
CALSCALE:GREGORIAN
METHOD:PUBLISH
X-WR-CALNAME:Stowarzyszenie Inicjatywa Firm Rodzinnych
X-ORIGINAL-URL:https://firmyrodzinne.pl
X-WR-CALDESC:Wydarzenia dla Stowarzyszenie Inicjatywa Firm Rodzinnych
BEGIN:VTIMEZONE
TZID:Europe/Paris
BEGIN:DAYLIGHT
TZOFFSETFROM:+0100
TZOFFSETTO:+0200
TZNAME:CEST
DTSTART:20170326T010000
END:DAYLIGHT
BEGIN:STANDARD
TZOFFSETFROM:+0200
TZOFFSETTO:+0100
TZNAME:CET
DTSTART:20171029T010000
END:STANDARD
END:VTIMEZONE
BEGIN:VEVENT
DTSTART;TZID=Europe/Paris:20170225T113000
DTEND;TZID=Europe/Paris:20170225T150000
DTSTAMP:20260424T095016
CREATED:20170212T171004Z
LAST-MODIFIED:20170212T171417Z
UID:2772-1488022200-1488034800@firmyrodzinne.pl
SUMMARY:Ksiegowość Podatki Ubezpieczenia
DESCRIPTION:Zapraszamy serdecznie na spotkanie tematyczne firm rodzinnych. \nPodczas spotkania tematycznego uczestnicy uzyskają praktyczną wiedzę o zmianach\, jakie zaszły w 2017 roku w: księgowości\, podatkach oraz ubezpieczeniach. \nUczestnicy otrzymają praktyczne rozwiązania do zastosowania we własnej firmie\, a to wszystko w wyjątkowo pozytywnej rodzinnej atmosferze. Prelegentami są członkowie naszego stowarzyszenia\, którzy przyczyniają się do powstania oddziału warszawskiego. \nPodczas spotkania tematycznego odbędą się warsztaty\, które pozwolą nam wypracować wspólny harmonogram na cały rok dla działań w regionie. \n \n\n\n\nPROGRAM DO POBRANIA\n\n\n\nFormularz uczestnictwa: \nŁaduję…
URL:https://firmyrodzinne.pl/kalendarz/ksiegowosc-podatki-ubezpieczenia/
LOCATION:Galeria Freta\, ul. Freta 39\, Warszawa\, Polska
CATEGORIES:IFR
ORGANIZER;CN="Inicjatywa%20Firm%20Rodzinnych":MAILTO:sekretariat@firmyrodzinne.pl
END:VEVENT
END:VCALENDAR