BEGIN:VCALENDAR
VERSION:2.0
PRODID:-//Stowarzyszenie Inicjatywa Firm Rodzinnych - ECPv5.16.4//NONSGML v1.0//EN
CALSCALE:GREGORIAN
METHOD:PUBLISH
X-WR-CALNAME:Stowarzyszenie Inicjatywa Firm Rodzinnych
X-ORIGINAL-URL:https://firmyrodzinne.pl
X-WR-CALDESC:Wydarzenia dla Stowarzyszenie Inicjatywa Firm Rodzinnych
BEGIN:VTIMEZONE
TZID:Europe/Warsaw
BEGIN:DAYLIGHT
TZOFFSETFROM:+0100
TZOFFSETTO:+0200
TZNAME:CEST
DTSTART:20230326T010000
END:DAYLIGHT
BEGIN:STANDARD
TZOFFSETFROM:+0200
TZOFFSETTO:+0100
TZNAME:CET
DTSTART:20231029T010000
END:STANDARD
END:VTIMEZONE
BEGIN:VEVENT
DTSTART;TZID=Europe/Warsaw:20230926T110000
DTEND;TZID=Europe/Warsaw:20230926T160000
DTSTAMP:20260420T064154
CREATED:20230808T093600Z
LAST-MODIFIED:20230919T134701Z
UID:14468-1695726000-1695744000@firmyrodzinne.pl
SUMMARY:Kutnowskie Forum Gospodarcze
DESCRIPTION:Inicjatywa Firm Rodzinnych realizując motto „Łączymy By Budować”\, jako Patron wydarzenia serdecznie zaprasza na pierwsze Kutnowskie Forum Gospodarcze. To nowa inicjatywa dedykowana przedsiębiorcom z Kutna i regionu kutnowskiego. Pierwsza edycja wydarzenia odbędzie się 26 września 2023 r. w godzinach 11:00 – 15:30 w Centrum Teatru\, Muzyki i Tańca (Teatralna 1\, 99-300 Kutno). \nOrganizatorami forum są: Miasto Kutno\, Łódzki Instytut Technologiczny (ŁIT) Łukasiewicz oraz Agencja Rozwoju Regionalnego S.A. Tegoroczna edycja Forum\, za sprawą współpracy z ŁIT Łukasiewicz otrzymała patronat honorowy Ministra Edukacji i Nauki. \nTematem przewodnim wydarzenia będzie innowacyjność w biznesie\, co lokalnie realizuje hasło tegorocznego Zjazdu Firm Rodzinnych U-RODZINY 2023. Nawiązań i zaproszeń na U-RODZINY nie zabraknie. \nIntegralną częścią Forum będzie konferencja „Nauka dla Biznesu – Nowe Perspektywy„. Przedstawiciele Łódzkiego Instytutu Technologicznego Łukasiewicz opowiedzą jakie korzyści mogą czerpać przedsiębiorcy ze współpracy z naukowcami oraz jakimi efektami mogą się już pochwalić obie strony. \nReprezentanci Łódzkiej Specjalnej Strefy Ekonomicznej będą przekonywać biznes do rozwoju ze wsparciem specjalnej strefy ekonomicznej w ramach programu Polska Strefa Inwestycji\, a firma TRI Sp. z o.o. pokaże gdzie szukać funduszy na rozwój firm w zakresie robotyzacji\, automatyzacji i cyfryzacji. \nInnowacyjność wkracza także w obszary budowania wizerunku przez pracodawców\, dlatego w trakcie forum dowiemy się jakie korzyści niesie ze sobą wykorzystanie sztucznej inteligencji w działaniach pracodawcy w social mediach (Linkedin). \nForum zostanie zwieńczone panelem dyskusyjnym dotyczącym innowacyjność firm lokalnych i ich wpływu na wzrost potencjału gospodarczego w regionie\, przygotowanym przez Agencję Rozwoju Regionalnego S.A. Panelistami będą reprezentanci firm rodzinnych z Kutna i okolic w tym Anna Stańdo-Iwanowska\, członek Zarządu IFR oraz inni członkowie. \nJako Partner Kutnowskiego Forum Gospodarczego serdecznie zapraszamy ! \n\n\n\n\nREJESTRACJA
URL:https://firmyrodzinne.pl/kalendarz/kutnowskie-forum-gospodarcze/
LOCATION:Centrum Teatru Muzyki i Tańca\, Teatralna 1\, Kutno\, 99-300
CATEGORIES:Projekty
ORGANIZER;CN="Agencja%20Rozwoju%20Regionalnego":MAILTO:arrk@arrk.pl
END:VEVENT
END:VCALENDAR