BEGIN:VCALENDAR
VERSION:2.0
PRODID:-//Stowarzyszenie Inicjatywa Firm Rodzinnych - ECPv5.16.4//NONSGML v1.0//EN
CALSCALE:GREGORIAN
METHOD:PUBLISH
X-WR-CALNAME:Stowarzyszenie Inicjatywa Firm Rodzinnych
X-ORIGINAL-URL:https://firmyrodzinne.pl
X-WR-CALDESC:Wydarzenia dla Stowarzyszenie Inicjatywa Firm Rodzinnych
BEGIN:VTIMEZONE
TZID:Europe/Warsaw
BEGIN:DAYLIGHT
TZOFFSETFROM:+0100
TZOFFSETTO:+0200
TZNAME:CEST
DTSTART:20190331T010000
END:DAYLIGHT
BEGIN:STANDARD
TZOFFSETFROM:+0200
TZOFFSETTO:+0100
TZNAME:CET
DTSTART:20191027T010000
END:STANDARD
END:VTIMEZONE
BEGIN:VEVENT
DTSTART;TZID=Europe/Warsaw:20190930T090000
DTEND;TZID=Europe/Warsaw:20190930T170000
DTSTAMP:20260421T233858
CREATED:20190926T113554Z
LAST-MODIFIED:20190930T163633Z
UID:6956-1569834000-1569862800@firmyrodzinne.pl
SUMMARY:LCK: Seminarium #3 Gdynia
DESCRIPTION:  \nO SPOSOBACH PROWADZENIA FIRMY RODZINNEJ I RYZYKACH \nSerdecznie zapraszamy na kolejne seminarium dla gdyńskich firm rodzinnych organizowane w ramach projektu „Tworzenie Systemu Sieciowego Wsparcia Przedsiębiorczości Rodzinnej – Lokalne Centra Kompetencji Rozwoju Firm Rodzinnych”. \nTym razem pochylimy się nad sposobami prowadzenia firmy rodzinnej oraz ryzykami z tym związanymi. Seminarium odbędzie się w Pomorskim Parku Naukowo-Technologicznym (Al. Zwycięstwa 96/98 Bud. III\, sala F/H). \nSpotkanie poprowadzą specjaliści z naszego lokalnego rynku: \n\nKancelaria Radcy Prawnego Tomasz Palak\nDaria Kunkowska – Acartus Sp. z o.o.\nJoanna Sikora – Yellow Door Business Intelligence\n\nNa spotkaniu przedstawimy Państwu także wyniki badań przeprowadzonych w maju br. na gdyńskiej młodzieży szkolnej: „Rola Przedsiębiorczości (w tym rodzinnej) w planach zawodowych młodzieży w gdyńskich szkołach średnich”. \n\n\n\nAgenda Seminarium #3 [PDF]\nPobierz\n\n\n\nZapisy na spotkanie pod adresem mailowym: m.antkowiak@gdynia.pl\nLiczba miejsc jest ograniczona\, decyduje kolejność zgłoszeń. \n\n*Realizacja zadania współfinansowana ze środków Unii Europejskiej w ramach Europejskiego Funduszu Społecznego na lata 2014-2020\, projekt pt. „Tworzenie systemu sieciowego wsparcia przedsiębiorczości rodzinnej – lokalne centra kompetencji rozwoju firm rodzinnych”
URL:https://firmyrodzinne.pl/kalendarz/lck-seminarium-3-gdynia/
LOCATION:Pomorski Park Naukowo-Technologiczny\, Al. Zwycięstwa 96/98\, Gdynia\, 81-451\, Polska
CATEGORIES:Projekty
ORGANIZER;CN="Inicjatywa%20Firm%20Rodzinnych":MAILTO:sekretariat@firmyrodzinne.pl
END:VEVENT
END:VCALENDAR