BEGIN:VCALENDAR
VERSION:2.0
PRODID:-//Stowarzyszenie Inicjatywa Firm Rodzinnych - ECPv5.16.4//NONSGML v1.0//EN
CALSCALE:GREGORIAN
METHOD:PUBLISH
X-WR-CALNAME:Stowarzyszenie Inicjatywa Firm Rodzinnych
X-ORIGINAL-URL:https://firmyrodzinne.pl
X-WR-CALDESC:Wydarzenia dla Stowarzyszenie Inicjatywa Firm Rodzinnych
BEGIN:VTIMEZONE
TZID:Europe/Warsaw
BEGIN:DAYLIGHT
TZOFFSETFROM:+0100
TZOFFSETTO:+0200
TZNAME:CEST
DTSTART:20190331T010000
END:DAYLIGHT
BEGIN:STANDARD
TZOFFSETFROM:+0200
TZOFFSETTO:+0100
TZNAME:CET
DTSTART:20191027T010000
END:STANDARD
END:VTIMEZONE
BEGIN:VEVENT
DTSTART;TZID=Europe/Warsaw:20190919T100000
DTEND;TZID=Europe/Warsaw:20190919T180000
DTSTAMP:20260422T050949
CREATED:20190907T091251Z
LAST-MODIFIED:20190918T211521Z
UID:6866-1568887200-1568916000@firmyrodzinne.pl
SUMMARY:LCK: Seminarium #3 Grodzisk Maz.
DESCRIPTION:  \nSzanowni Rodzinni z rejonu Grodziska Mazowieckiego! \nSerdecznie zapraszamy na trzeci już seminarium w ramach projektu LCK\, który odbędzie się w dn. 19 września 2019 roku w Grodzisku Mazowieckim w Willi Niespodzianka (ul. Kościuszki 12). Projekt LCK\, pełna nazwa „Tworzenie systemu sieciowego wsparcia przedsiębiorczości rodzinnej – lokalne centra kompetencji rozwoju firm rodzinnych„ jest skierowany do wszystkich firm rodzinnych z regionu zainteresowanych rozwojem swoich kompetencji i umiejętności biznesowych\, a także poznania lokalnego środowiska przedsiębiorców rodzinnych. \nSeminarium patronuje pan Burmistrz Grodziska Mazowieckiego Grzegorz Benedykciński. Wydarzenie będzie składać się z dwóch części. W pierwszej części p. Marzanna Stańczuk opowie o drodze do sukcesu własnej firmy oraz wyzwaniach które stanęły na tym szlaku. W drugiej części wysłuchamy prelekcji Tomasza Budziaka nt. nowego narzędzia ułatwiającego sukcesję w firmach rodzinnych – tzw. Fundacji Rodzinnej\, a także panel dyskusyjny poświęcony budowaniu firmy oraz znaczeniu nawiązywania relacji z otoczeniem przedsiębiorców i organizacji działających na rzecz biznesu. W trakcie spotkania przewidziane są przerwy na kawę/herbatę oraz lunch\, a także konsultacje indywidualne z animatorem lokalnym oraz ekspertami projektu. Wydarzenie będzie także dobrą okazji do networkingu i nawiązania relacji biznesowych z innymi przedsiębiorcami z regionu. \nSerdecznie zapraszamy do wzięcia udziału w naszym pożytecznym przedsięwzięciu. \n\n\n\nAgenda Seminarium #3 Grodzisk Maz. [PDF]\nPobierz\n\n\n\n\n*Realizacja zadania współfinansowana ze środków Unii Europejskiej w ramach Europejskiego Funduszu Społecznego na lata 2014-2020\, projekt pt. „Tworzenie systemu sieciowego wsparcia przedsiębiorczości rodzinnej – lokalne centra kompetencji rozwoju firm rodzinnych”
URL:https://firmyrodzinne.pl/kalendarz/lck-seminarium-3-grodzisk-maz/
LOCATION:Willa Niespodzianka\, ul. Kościuszki 12\, Grodzisk Mazowiecki\, 05-825\, Polska
CATEGORIES:Projekty
ORGANIZER;CN="Inicjatywa%20Firm%20Rodzinnych":MAILTO:sekretariat@firmyrodzinne.pl
END:VEVENT
END:VCALENDAR