BEGIN:VCALENDAR
VERSION:2.0
PRODID:-//Stowarzyszenie Inicjatywa Firm Rodzinnych - ECPv5.16.4//NONSGML v1.0//EN
CALSCALE:GREGORIAN
METHOD:PUBLISH
X-WR-CALNAME:Stowarzyszenie Inicjatywa Firm Rodzinnych
X-ORIGINAL-URL:https://firmyrodzinne.pl
X-WR-CALDESC:Wydarzenia dla Stowarzyszenie Inicjatywa Firm Rodzinnych
BEGIN:VTIMEZONE
TZID:Europe/Warsaw
BEGIN:DAYLIGHT
TZOFFSETFROM:+0100
TZOFFSETTO:+0200
TZNAME:CEST
DTSTART:20190331T010000
END:DAYLIGHT
BEGIN:STANDARD
TZOFFSETFROM:+0200
TZOFFSETTO:+0100
TZNAME:CET
DTSTART:20191027T010000
END:STANDARD
END:VTIMEZONE
BEGIN:VEVENT
DTSTART;TZID=Europe/Warsaw:20191001T090000
DTEND;TZID=Europe/Warsaw:20191001T170000
DTSTAMP:20260422T031255
CREATED:20190924T080548Z
LAST-MODIFIED:20190923T161452Z
UID:6911-1569920400-1569949200@firmyrodzinne.pl
SUMMARY:LCK: Seminarium #4 Kutno
DESCRIPTION:  \nKUTNO ZYSKUJE dzięki firmom rodzinnym! \nSpotkajmy się rodzinnie w centrum Polski! \nJuż 1 października br. (wtorek) we współpracy z Miastem Kutno – Agencja Rozwoju Regionu Kutnowskiego S.A. organizuje 4# Seminarium dla przedsiębiorców rodzinnych pt.: „Pomnażamy rodzinne bogactwo. Sposoby pomiaru zysku ekonomicznego”. \n\nPRZEDSIĘBIORCO! Jeśli prowadzisz firmę rodzinną i działasz na terenie powiatu kutnowskiego zgłoś się do udziału w projekcie! Zyskasz o wiele więcej niż udział w seminariach! \n\nPo raz kolejny spotykamy się w sali konferencyjnej CUKROVNI by tym razem rozmawiać o zysku. Dzień rozpoczynamy poranną kawą i spotkaniami z Animatorami Lokalnego Centrum Kompetencji Rozwoju Firm Rodzinnych w Kutnie. \nWeź udział! Nie uzyskasz odpowiedzi na pytanie w co najlepiej inwestować\, ale jak najlepiej zarządzać majątkiem\, żeby go pomnażać ograniczając zagrożenia dla stabilności firmy! Zdobędziesz umiejętność wyszczególnienia rożnych części składowej majątku związanego z rodzinnym biznesem! \nW programie Seminarium #4: \n\nPrezentacje tematyczne dotyczące zysku firmy\nKonsultacje indywidualne ze specjalistami Lokalnych Dostawców Usług dla Firm Rodzinnych (Sławomir Nowicki – Rzecznik Patentowy – KANCELARIA PRAWNA INTELLECTPOL\, Krzysztof Krukowski – EARTH ENERGY\, Jarosław Wiśniewski – WIŚNIEWSCY BIURO KSIĘGOWE)\n\nUczestnicząc uzyskasz odpowiedzi na pytania: jak pomnażać swój majątek nie zagrażając bezpieczeństwu firmy rodzinnej; jak zrozumieć co przynosi zysk. \nDowiesz się także: \n\nW jaki sposób i w jakiej ilości możliwe jest uzyskanie opłacalnej oszczędności energii?\nCzy opłaca się wykonywać audyt energetyczny?\nJak zyskać przewagę nad konkurencją stosując ochronę patentową?\nJak mierzyć zysk ekonomiczny i dlaczego tak kluczowe jest wdrożenie systemu gromadzenia i zarządzania danymi finansowymi?\nJak analizować krótko i długoterminowe skutki decyzji finansowych?\nJak zarządzać majątkiem by go pomnażać?\n\nW załączeniu agenda wydarzenia wraz z notką o firmach\, których przedstawiciele jako Lokalni Dostawcy Usług dla Firm Rodzinnych poprowadzą spotkanie. \n\n\n\nAgenda Seminarium #4 [PDF]\nPobierz\n\n\n\n\n\n\nZAPISZ SIE NA SEMINARIUM\n\n\n\nDo udziału w seminarium wymagana jest rejestracja do Projektu\, którą zajmuje się Animator Lokalnego Centrum Kompetencji Przedsiębiorczości Rodzinnej w Kutnie: \n\nPani Ewa Chłopska-Wasielewska\, tel. 881 778 839\nE-mail: lck-kutno@firmyrodzinne.eu\n\nUdział w projekcie jest bezpłatny. \n(Uczestnikom wydawane są zaświadczenia o udzielonej pomocy de minimis) \nMamy nadzieję\, że będziemy mogli wspólnie wymienić cenne uwagi i pomysły dotyczące możliwości wsparcia kutnowskich firm rodzinnych\, budowania ich trwałości i konkurencyjności. \n\n*Realizacja zadania współfinansowana ze środków Unii Europejskiej w ramach Europejskiego Funduszu Społecznego na lata 2014-2020\, projekt pt. „Tworzenie systemu sieciowego wsparcia przedsiębiorczości rodzinnej – lokalne centra kompetencji rozwoju firm rodzinnych”
URL:https://firmyrodzinne.pl/kalendarz/lck-seminarium-4-kutno/
LOCATION:Sala Cukrovnia\, ul. Barlickiego 20\, Kutno\, 99-300\, Polska
CATEGORIES:Projekty
ORGANIZER;CN="Inicjatywa%20Firm%20Rodzinnych":MAILTO:sekretariat@firmyrodzinne.pl
END:VEVENT
END:VCALENDAR