BEGIN:VCALENDAR
VERSION:2.0
PRODID:-//Stowarzyszenie Inicjatywa Firm Rodzinnych - ECPv5.16.4//NONSGML v1.0//EN
CALSCALE:GREGORIAN
METHOD:PUBLISH
X-WR-CALNAME:Stowarzyszenie Inicjatywa Firm Rodzinnych
X-ORIGINAL-URL:https://firmyrodzinne.pl
X-WR-CALDESC:Wydarzenia dla Stowarzyszenie Inicjatywa Firm Rodzinnych
BEGIN:VTIMEZONE
TZID:Europe/Warsaw
BEGIN:DAYLIGHT
TZOFFSETFROM:+0100
TZOFFSETTO:+0200
TZNAME:CEST
DTSTART:20190331T010000
END:DAYLIGHT
BEGIN:STANDARD
TZOFFSETFROM:+0200
TZOFFSETTO:+0100
TZNAME:CET
DTSTART:20191027T010000
END:STANDARD
END:VTIMEZONE
BEGIN:VEVENT
DTSTART;TZID=Europe/Warsaw:20191105T090000
DTEND;TZID=Europe/Warsaw:20191105T170000
DTSTAMP:20260420T183304
CREATED:20191023T122928Z
LAST-MODIFIED:20191104T133232Z
UID:7077-1572944400-1572973200@firmyrodzinne.pl
SUMMARY:LCK: Seminarium #5 Kutno
DESCRIPTION:  \nKUTNO ZYSKUJE dzięki firmom rodzinnym! \nSpotkajmy się rodzinnie w centrum Polski! \nDrodzy Rodzinni\, 5 listopada br. we współpracy z Miastem Kutno oraz Agencją Rozwoju Regionu Kutnowskiego S.A. Stowarzyszenie IFR organizuje 5# Seminarium dla przedsiębiorców rodzinnych pt.: „Rodzina w firmie – realizacja rodzinnych interesów!”. \n\nPRZEDSIĘBIORCO! Jeśli prowadzisz firmę rodzinną i działasz na terenie powiatu kutnowskiego zgłoś się do udziału w projekcie! Zyskasz o wiele więcej niż udział w seminariach! \n\n\n\n\nZAPISZ SIE NA SEMINARIUM\n\n\n\nJuż we wtorek po raz kolejny spotykamy się w sali konferencyjnej CUKROVNI – ul. Barlickiego 20 (I piętro)  by tym razem rozmawiać o formach i zasadach prowadzenia rodzinnego biznesu oraz o wynagradzaniu członków rodzin. Dzień rozpoczynamy poranną kawą i spotkaniami z Animatorami Lokalnego Centrum Kompetencji Rozwoju Firm Rodzinnych w Kutnie. \nWeź udział! Nie uzyskasz odpowiedzi na pytanie w co najlepiej inwestować\, ale jak najlepiej zarządzać majątkiem\, żeby go pomnażać ograniczając zagrożenia dla stabilności firmy! Zdobędziesz umiejętność wyszczególnienia rożnych części składowej majątku związanego z rodzinnym biznesem! \nUczestnicząc uzyskasz odpowiedzi na pytania: \n\nCzy forma prawna i organizacja wygodna dla firmy jest równie optymalna dla realizacji interesów rodziny w biznesie?\nCzy i w jaki sposób rodzina oprócz założyciela może mieć wpływ na zarządzanie\, strategiczne decyzje i korzystanie z owoców firmy?\nCzego rodzina może oczekiwać od firmy\, a czego firma od rodziny?\nJak przekazać współodpowiedzialność młodszemu pokoleniu?\nJak godzić rozbieżne interesy członków rodziny w firmie?\nCzym jest partnering HR?\n\nDowiesz się także: \n\nJakim sposobem formalnie przekazać kierowanie biznesem kolejnemu pokoleniu\, ale i zabezpieczyć swoją jesień życia?\nJak dopasować formy prowadzenia działalności do potrzeb kolejnego pokolenia?\nJak określić ramy prawne i organizacyjne działania firmy na przyszłe lata oraz zasady regulujące sposób zarządzania uprawnieniami i potrzebami rodziny w firmie?\nJak optymalizować formy prowadzenia firmy rodzinnej by zapewnić odpowiedni standard życia wielopokoleniowej rodzinie i rozwój firmie?\nCzym jest Ład Korporacyjny i Ład Rodzinny?\nJak stosować narzędzia ładu takie jak: statut/konstytucja rodzinna czy protokół i inne zasady rządzące rodziną w biznesie oraz jaki mają one wpływ na prawne aspekty prowadzenia firmy?\nJak uwzględnić rolę menadżera spoza rodziny?\nW jaki sposób ustalić wynagrodzenie członków rodziny?\nCzy i w jaki sposób finansować członków rodziny\, którzy jeszcze albo już nie tworzą wartości biznesu rodzinnego?\n\n\n\n\nAgenda Seminarium #5 [PDF]\nPobierz\n\n\n\nDo udziału w seminarium wymagana jest rejestracja do Projektu\, którą zajmuje się Animator Lokalnego Centrum Kompetencji Przedsiębiorczości Rodzinnej w Kutnie: \n\nPani Ewa Chłopska-Wasielewska\, tel. 881 778 839\nE-mail: lck-kutno@firmyrodzinne.eu\n\nUdział w projekcie jest bezpłatny. \n(Uczestnikom wydawane są zaświadczenia o udzielonej pomocy de minimis) \nMamy nadzieję\, że będziemy mogli wspólnie wymienić cenne uwagi i pomysły dotyczące możliwości wsparcia kutnowskich firm rodzinnych\, budowania ich trwałości i konkurencyjności. \n\n*Realizacja zadania współfinansowana ze środków Unii Europejskiej w ramach Europejskiego Funduszu Społecznego na lata 2014-2020\, projekt pt. „Tworzenie systemu sieciowego wsparcia przedsiębiorczości rodzinnej – lokalne centra kompetencji rozwoju firm rodzinnych”
URL:https://firmyrodzinne.pl/kalendarz/lck-seminarium-5-kutno/
LOCATION:Sala Cukrovnia\, ul. Barlickiego 20\, Kutno\, 99-300\, Polska
CATEGORIES:Projekty
ORGANIZER;CN="Inicjatywa%20Firm%20Rodzinnych":MAILTO:sekretariat@firmyrodzinne.pl
END:VEVENT
END:VCALENDAR