BEGIN:VCALENDAR
VERSION:2.0
PRODID:-//Stowarzyszenie Inicjatywa Firm Rodzinnych - ECPv5.16.4//NONSGML v1.0//EN
CALSCALE:GREGORIAN
METHOD:PUBLISH
X-WR-CALNAME:Stowarzyszenie Inicjatywa Firm Rodzinnych
X-ORIGINAL-URL:https://firmyrodzinne.pl
X-WR-CALDESC:Wydarzenia dla Stowarzyszenie Inicjatywa Firm Rodzinnych
BEGIN:VTIMEZONE
TZID:Europe/Warsaw
BEGIN:DAYLIGHT
TZOFFSETFROM:+0100
TZOFFSETTO:+0200
TZNAME:CEST
DTSTART:20190331T010000
END:DAYLIGHT
BEGIN:STANDARD
TZOFFSETFROM:+0200
TZOFFSETTO:+0100
TZNAME:CET
DTSTART:20191027T010000
END:STANDARD
END:VTIMEZONE
BEGIN:VEVENT
DTSTART;TZID=Europe/Warsaw:20191105T090000
DTEND;TZID=Europe/Warsaw:20191105T170000
DTSTAMP:20260420T200920
CREATED:20191031T142336Z
LAST-MODIFIED:20191104T142753Z
UID:7091-1572944400-1572973200@firmyrodzinne.pl
SUMMARY:LCK: Seminarium #5 Starogard Gd.
DESCRIPTION:  \nJuż 5 listopada br. zapraszamy przedsiębiorców prowadzących swój biznes rodzinny w Starogardzie Gdańskim i najbliższej okolicy\, którzy przystąpili lub przystąpią do projektu pt. „Tworzenie systemu sieciowego wsparcia przedsiębiorczości rodzinnej – lokalne centra kompetencji rozwoju firm rodzinnych”\, a także przedstawicieli jednostek oświatowych oraz instytucji otoczenia biznesu\, na seminarium pt.: \n  \nPodaż pracowników w latach następnych – na podstawie analizy demograficznej lokalnego rynku pracy oraz wyników ankiety przeprowadzonej wśród uczniów szkół średnich Powiatu Starogardzkiego. Identyfikacja i ocena ryzyka w przedsiębiorstwach rodzinnych\, wynikające ze zmian na lokalnym rynku pracy. \n  \nSeminarium odbędzie się w auli I Liceum Ogólnokształcącego w Starogardzie Gdańskim\, ul. Hallera 34. Spotkanie poprowadzą eksperci Związku Miast Polskich. \nZaczynamy o godzinie 10:00\, kiedy powitamy Państwa poranną kawą\, zapoznamy się z Animatorami Lokalnego Centrum Kompetencji Rozwoju Firm Rodzinnych w Starogardzie Gdańskim oraz z ekspertem Projektu ze Stowarzyszenia Inicjatywa Firm Rodzinnych. \n\n\n\nAgenda Seminarium #5 [PDF]\nPobierz\n\n\n\nDo udziału w seminarium wymagana jest rejestracja do Projektu\, którą zajmują się Animatorzy Lokalnego Centrum Kompetencji Rozwoju Firm Rodzinnych w Starogardzie Gdańskim: \n\n\nMagdalena Schwarz: tel. 58 530 61 05\nWojciech Mokwa: tel. 58 530 60 38\nE-mail: lck-starogard.gdanski@firmyrodzinne.eu\n\n\nRejestracja do projektu możliwa jest u Animatorów w dzień seminarium\, od godz. 9:00\, w auli I LO lub w terminie ustalonym indywidualnie z Animatorami.  \n\n*Realizacja zadania współfinansowana ze środków Unii Europejskiej w ramach Europejskiego Funduszu Społecznego na lata 2014-2020\, projekt pt. „Tworzenie systemu sieciowego wsparcia przedsiębiorczości rodzinnej – lokalne centra kompetencji rozwoju firm rodzinnych”
URL:https://firmyrodzinne.pl/kalendarz/lck-seminarium-5-starogard-gd/
LOCATION:I LO w Starogardzie Gd.\, ul. Hallera 34\, Starogard Gdański\, 83-200\, Polska
CATEGORIES:Projekty
ORGANIZER;CN="Inicjatywa%20Firm%20Rodzinnych":MAILTO:sekretariat@firmyrodzinne.pl
END:VEVENT
END:VCALENDAR