BEGIN:VCALENDAR
VERSION:2.0
PRODID:-//Stowarzyszenie Inicjatywa Firm Rodzinnych - ECPv5.16.4//NONSGML v1.0//EN
CALSCALE:GREGORIAN
METHOD:PUBLISH
X-WR-CALNAME:Stowarzyszenie Inicjatywa Firm Rodzinnych
X-ORIGINAL-URL:https://firmyrodzinne.pl
X-WR-CALDESC:Wydarzenia dla Stowarzyszenie Inicjatywa Firm Rodzinnych
BEGIN:VTIMEZONE
TZID:Europe/Warsaw
BEGIN:DAYLIGHT
TZOFFSETFROM:+0100
TZOFFSETTO:+0200
TZNAME:CEST
DTSTART:20240331T010000
END:DAYLIGHT
BEGIN:STANDARD
TZOFFSETFROM:+0200
TZOFFSETTO:+0100
TZNAME:CET
DTSTART:20241027T010000
END:STANDARD
END:VTIMEZONE
BEGIN:VEVENT
DTSTART;TZID=Europe/Warsaw:20240208T110000
DTEND;TZID=Europe/Warsaw:20240208T123000
DTSTAMP:20260421T104049
CREATED:20240130T091759Z
LAST-MODIFIED:20240130T091759Z
UID:15003-1707390000-1707395400@firmyrodzinne.pl
SUMMARY:Optymalizacja czasu pracy w firmie dzięki AI
DESCRIPTION:Odkryj klucz do efektywności. Oszczędzaj czas i pieniądze dzięki AI! \nDowiedz się\, jak dzięki narzędziom opartym na sztucznej inteligencji każdy pracownik może zaoszczędzić od 1 do 4 godzin dziennie\, co w skali roku przekłada się na nawet 1150 godzin na inne działania. To czas\, który możesz przeznaczyć na rozwój firmy\, nowe projekty czy osobisty rozwój. \nZapraszamy na bezpłatny webinar przygotowany wspólnie z agencja BUZZcenter (firma rodzinna\, członek IFR) pt. „Oszczędzaj czas i pieniądze: Optymalizacja czasu pracy w firmie dzięki AI„\, który odbędzie się 8 lutego 2024 roku o godz. 11:00-12:30. \nSpotkanie poprowadzi doświadczony ekspert ds. AI\, cybernetyk\, Radosław Mechło\, który przedstawi praktyczne aspekty wykorzystania AI w biznesie. \n\n\n\n\nWEŹ UDZIAŁ W WEBINARIUM\n\n\n\n\n\n\nInstrukcja udziału w webinarium przez ClickMeeting [PDF]\n\n\n\n\nPodczas webinaru dowiesz się\, jak szybsza komunikacja wewnętrzna i zewnętrzna\, efektywniejsze przygotowanie ofert oraz przewyższanie konkurencji są możliwe dzięki AI. Odkryj\, jak zwiększyć jakość obsługi klienta i przeprowadzać szybszą analizę dokumentów i danych\, co przekłada się na obsługę większej liczby klientów przy tej samej liczbie pracowników. Wykorzystanie AI w Twojej firmie to nie tylko oszczędności\, ale i skalowanie biznesu oraz więcej czasu na realizację dodatkowych projektów. Nie przegap okazji\, by poznać konkretne przypadki zastosowania AI\, które mogą zrewolucjonizować Twoje podejście do biznesu. \nDołącz do nas i zacznij transformację swojego biznesu. \n  \n\n\n\nPROWADZĄCY\n\n\n\nRadosław Mechło – Cybernetyk\, Business Development Director\, Ekspert Sprzedaży. Współzałożyciel BUZZcenter. Handlowiec i marketer z zamiłowania\, cybernetyk z wykształcenia\, który skutecznie łączy swoją wiedzę i kompetencje\, by doradzać Klientom w obszarze marketingu\, sprzedaży i pozyskiwania Klientów. Ponad 15 lat w świecie marketingu i reklamy dały mu podwaliny do świadomego podejmowania decyzji o inwestycjach marketingowych i biznesowych. \nAbsolwent cybernetyki na Wojskowej Akademii Technicznej\, Marketingu i Zarządzania w szkole VIZJA. Posiada dyplom DIMAQ Proffesional oraz Strategic Thinking oraz Winning Sustainability Strategies w International Institute for Management Development w Szwajcarii. \nRealizował projekty doradcze i szkoleniowe między innymi dla: Giełdy Papierów Wartościowych\, Makro Cash&Carry\, Bakoma\, Aviva\, British American Tobacco\, Orkla\, Polpharma\, Kulczyk Oil Ventures\, GLS\, Jaguar Land Rover\, LOTOS Paliwa\, Getin Noble Bank\, Idea Bank\, Jysk\, Orange\, T-Mobile\, Ipsen\, MSH\, Związek Miast Polskich\, Polaris. \nOd 2017 roku szkoli w formule otwartej i dla firm\, głównie z obszaru AI\, marketingu i strategii. W 2023 roku przeszkolił ponad 2500 osób z obszaru AI i przetestował ponad 1500 narzędzi AI.
URL:https://firmyrodzinne.pl/kalendarz/optymalizacja-czasu-pracy-w-firmie-dzieki-ai/
CATEGORIES:IFR
ORGANIZER;CN="Inicjatywa%20Firm%20Rodzinnych":MAILTO:sekretariat@firmyrodzinne.pl
END:VEVENT
END:VCALENDAR