BEGIN:VCALENDAR
VERSION:2.0
PRODID:-//Stowarzyszenie Inicjatywa Firm Rodzinnych - ECPv5.16.4//NONSGML v1.0//EN
CALSCALE:GREGORIAN
METHOD:PUBLISH
X-WR-CALNAME:Stowarzyszenie Inicjatywa Firm Rodzinnych
X-ORIGINAL-URL:https://firmyrodzinne.pl
X-WR-CALDESC:Wydarzenia dla Stowarzyszenie Inicjatywa Firm Rodzinnych
BEGIN:VTIMEZONE
TZID:Europe/Paris
BEGIN:DAYLIGHT
TZOFFSETFROM:+0100
TZOFFSETTO:+0200
TZNAME:CEST
DTSTART:20160327T010000
END:DAYLIGHT
BEGIN:STANDARD
TZOFFSETFROM:+0200
TZOFFSETTO:+0100
TZNAME:CET
DTSTART:20161030T010000
END:STANDARD
END:VTIMEZONE
BEGIN:VEVENT
DTSTART;VALUE=DATE:20160527
DTEND;VALUE=DATE:20160530
DTSTAMP:20260424T234505
CREATED:20160413T025513Z
LAST-MODIFIED:20160423T064834Z
UID:1969-1464307200-1464566399@firmyrodzinne.pl
SUMMARY:Piknik Rodzinny Krasiejów
DESCRIPTION:Zapraszamy Rodzinnych z dziećmi dużymi i małymi na spotkanie do Krasiejowa. W ramach pobytu zaplanowano zwiedzanie i zajęcia w Parku Nauki i Rozrywki w Krasiejowie. Szczegółowy plan i koszt udziału jest w trakcie ustalania. \nZapisy: urszula.waliszewska@fakrosno.pl\, tel. 667 95 30 15 – Proszę podać imię i nazwisko uczestnika\, wiek (dorosły\, dla dzieci dokładnie)\, e-mail\, numer telefonu.
URL:https://firmyrodzinne.pl/kalendarz/piknik-rodzinny-krasiejow/
LOCATION:Krasiejów\, Krasiejów\, Polska
CATEGORIES:IFR
END:VEVENT
END:VCALENDAR