BEGIN:VCALENDAR
VERSION:2.0
PRODID:-//Stowarzyszenie Inicjatywa Firm Rodzinnych - ECPv5.16.4//NONSGML v1.0//EN
CALSCALE:GREGORIAN
METHOD:PUBLISH
X-WR-CALNAME:Stowarzyszenie Inicjatywa Firm Rodzinnych
X-ORIGINAL-URL:https://firmyrodzinne.pl
X-WR-CALDESC:Wydarzenia dla Stowarzyszenie Inicjatywa Firm Rodzinnych
BEGIN:VTIMEZONE
TZID:Europe/Warsaw
BEGIN:DAYLIGHT
TZOFFSETFROM:+0100
TZOFFSETTO:+0200
TZNAME:CEST
DTSTART:20240331T010000
END:DAYLIGHT
BEGIN:STANDARD
TZOFFSETFROM:+0200
TZOFFSETTO:+0100
TZNAME:CET
DTSTART:20241027T010000
END:STANDARD
END:VTIMEZONE
BEGIN:VEVENT
DTSTART;TZID=Europe/Warsaw:20240620T100000
DTEND;TZID=Europe/Warsaw:20240620T120000
DTSTAMP:20260423T005550
CREATED:20240607T083238Z
LAST-MODIFIED:20240618T134020Z
UID:15819-1718877600-1718884800@firmyrodzinne.pl
SUMMARY:Przedsiębiorczy Czerwiec | Kutno
DESCRIPTION:Serdecznie zapraszamy wszystkich przedsiębiorców i naszych Członków do udziału w spotkaniu sieciującym w Kutnie w ramach cyklu „Przedsiębiorczy Czerwiec„\, organizowanego z okazji Dnia Przedsiębiorcy 2024. Organizatorami spotkania są Inicjatywa Firm Rodzinnych\, Związek Miast Polskich oraz Agencja Rozwoju Regionalnego S.A. \nDołącz do nas na inspirujące spotkanie\, podczas którego będziemy omawiać kluczowe aspekty partnerstwa publiczno-społęcznego\, ciekawe wyniki badań oraz możliwości pozyskiwania źródeł finansowania na realizację projektów. Networking i sieciowanie to klucz do sukcesu w dzisiejszym dynamicznym świecie biznesu. Celebrujmy razem Dzień Przedsiębiorcy i budujmy silną\, zintegrowaną społeczność przedsiębiorców rodzinnych! \nSpotkanie networkingowe w Kutnie jest otwarte dla wszystkich\, a odbędzie się w dniu 20 czerwca 2024 roku w godzinach 10:00-12:00 w Pałacu Saskim (Plac Marszałka Józefa Piłsudskiego 20\, 99-320 Kutno). \nNie przegap tej wyjątkowej okazji do nawiązania nowych kontaktów\, zdobycia cennej wiedzy i budowania trwałych relacji biznesowych. Razem możemy budować silną i zintegrowaną społeczność przedsiębiorców rodzinnych! \n\n\n\n\nAGENDA SPOTKANIA\n\n\n10:00-10:30\nPowitalna kawa z Prezydentem Miasta Kutna. Zapraszamy na poranną kawę z Prezydentem! To doskonała okazja do nawiązania bezpośrednich kontaktów z władzami miasta i innymi przedsiębiorcami. Poznawanie się i budowanie relacji jest niezwykle ważne dla rozwoju naszego regionu i wzmacniania lokalnej gospodarki.\n\n\n10:30-11:00\nMetody i przykłady efektywnej współpracy w oparciu o partnerstwa publiczno-społeczne\n– Prezentacja “Model Współpracy Inicjatywy Firm Rodzinnych” – Ewa Sobkiewicz – Prezes IFR\, Mariola Grodnicka – Dyrektor Generalna IFR\n– Prezentacja “Model Współpracy Związek Miast Polskich” – Janusz Szewczuk – doradca strategiczny ZMP\n\n\n11:00-12:00\nDebata: Czas na kaptał! Kapitał Przedsiębiorczy w Kutnie! Sposoby pozyskiwania źródeł finansowania na realizację projektów międzysektorowych – „Inwestycje we współpracę międzysektorową w Polsce – Czas na kapitał inwestycyjny\, finansowy\, społeczny i cyfrowy – debata\nProwadzenie: Mariola Grodnicka – Prezes Agencji Rozoju Regionalnego S.A. i Prezes ŚZPP\, Janusz Szewczuk – doradca strategiczny ZMP\, Jacek Boczkaja – Zastępca Prezydenta Miasta Kutno\, Ewa Sobkiewicz – Prezes IFR\n\n\n11:00-12:00\nDyskusja i podsumowanie spotkania\n\n\n\n\n\n\n\nREJESTRACJA NA SPOTKANIE
URL:https://firmyrodzinne.pl/kalendarz/przedsiebiorczy-czerwiec-kutno/
LOCATION:Pałac Saski\, pl. Piłsudskiego 20\, Kutno\, 99-320
CATEGORIES:IFR
ORGANIZER;CN="Inicjatywa%20Firm%20Rodzinnych":MAILTO:sekretariat@firmyrodzinne.pl
END:VEVENT
END:VCALENDAR