BEGIN:VCALENDAR
VERSION:2.0
PRODID:-//Stowarzyszenie Inicjatywa Firm Rodzinnych - ECPv5.16.4//NONSGML v1.0//EN
CALSCALE:GREGORIAN
METHOD:PUBLISH
X-WR-CALNAME:Stowarzyszenie Inicjatywa Firm Rodzinnych
X-ORIGINAL-URL:https://firmyrodzinne.pl
X-WR-CALDESC:Wydarzenia dla Stowarzyszenie Inicjatywa Firm Rodzinnych
BEGIN:VTIMEZONE
TZID:Europe/Warsaw
BEGIN:DAYLIGHT
TZOFFSETFROM:+0100
TZOFFSETTO:+0200
TZNAME:CEST
DTSTART:20250330T010000
END:DAYLIGHT
BEGIN:STANDARD
TZOFFSETFROM:+0200
TZOFFSETTO:+0100
TZNAME:CET
DTSTART:20251026T010000
END:STANDARD
END:VTIMEZONE
BEGIN:VEVENT
DTSTART;TZID=Europe/Warsaw:20250228T140000
DTEND;TZID=Europe/Warsaw:20250228T160000
DTSTAMP:20260421T104049
CREATED:20250214T082926Z
LAST-MODIFIED:20250219T094212Z
UID:16801-1740751200-1740758400@firmyrodzinne.pl
SUMMARY:Rodzinne Inspiracje: Mentoring dla Sukcesu
DESCRIPTION:Szanowni Członkowie Inicjatywy Firm Rodzinnych\, \nKontynuując nasze statutowe działania\, serdecznie zapraszamy na kolejne spotkanie z cyklu „Rodzinne Inspiracje: Mentoring dla Sukcesu„\, które odbędzie się 28 lutego 2025 roku w Miejskim Inkubatorze Przedsiębiorczości Rawa.Ink w Katowicach (ul.Teatralna 17A\, 40-003 Katowice) w godzinach 14:00 – 16:00. \n  \n\n\n\nPLAN SPOTKANIA\n\n\n14:00-14:30\nNetworking rodzinny\n\n\n14:30-15:00\nDotacje dla firm na Śląsku w ramach funduszy europejskich – prezentacja firmy Argo Navi Doracje\n\n\n15:00-15:30\nAustria jako lokalizacja dla biznesu. Szanse i uwarunkowania – Heinz Pascher\, Konsultant ABA – Austrian Business Agency w Polsce\n\n\n15:30-16:00\nKompetencje przyszłości – prelekcja Agaty Hagno z DPM Sp. z o.o.\n\n\n\nSpotkania z cyklu „Rodzinne Inspiracje: Mentoring dla Sukcesu” to wyjątkowa okazja do wymiany doświadczeń\, zdobycia cennej wiedzy oraz nawiązania wartościowych kontaktów w gronie firm rodzinnych. Wierzymy\, że wspólne działania przyczynią się do dalszego rozwoju naszych przedsiębiorstw oraz umocnienia relacji w naszej społeczności. \n\nUWAGA: Przed spotkaniem\, w godzinach 12:00 – 13:30\, odbędzie się posiedzenie Zarządu Inicjatywy Firm Rodzinnych. \n\nProsimy o potwierdzenie udziału w spotkaniu poprzez formularz zgłoszeniowy dostępny poniżej. \nDo zobaczenia w Katowicach! \n\n\n\n\nREJESTRACJA
URL:https://firmyrodzinne.pl/kalendarz/rodzinne-inspiracje-mentoring-dla-sukcesu/
LOCATION:Rawa.ink Miejski Inkubator Przedsiębiorczości\, Teatralna 17A\, Katowice\, 40-003\, Polska
CATEGORIES:IFR
ORGANIZER;CN="Inicjatywa%20Firm%20Rodzinnych":MAILTO:sekretariat@firmyrodzinne.pl
END:VEVENT
END:VCALENDAR