BEGIN:VCALENDAR
VERSION:2.0
PRODID:-//Stowarzyszenie Inicjatywa Firm Rodzinnych - ECPv5.16.4//NONSGML v1.0//EN
CALSCALE:GREGORIAN
METHOD:PUBLISH
X-WR-CALNAME:Stowarzyszenie Inicjatywa Firm Rodzinnych
X-ORIGINAL-URL:https://firmyrodzinne.pl
X-WR-CALDESC:Wydarzenia dla Stowarzyszenie Inicjatywa Firm Rodzinnych
BEGIN:VTIMEZONE
TZID:Europe/Warsaw
BEGIN:DAYLIGHT
TZOFFSETFROM:+0100
TZOFFSETTO:+0200
TZNAME:CEST
DTSTART:20230326T010000
END:DAYLIGHT
BEGIN:STANDARD
TZOFFSETFROM:+0200
TZOFFSETTO:+0100
TZNAME:CET
DTSTART:20231029T010000
END:STANDARD
END:VTIMEZONE
BEGIN:VEVENT
DTSTART;VALUE=DATE:20230227
DTEND;VALUE=DATE:20230302
DTSTAMP:20260422T105437
CREATED:20230127T111801Z
LAST-MODIFIED:20230127T111801Z
UID:13546-1677456000-1677715199@firmyrodzinne.pl
SUMMARY:Skuteczna strategia rozwoju
DESCRIPTION:Zapraszamy na trzydniowe szkolenie warsztatowe organizowane przez naszych przyjaciół z BUZZcenter pt. „Zbuduj skuteczną strategię rozwoju biznesu”. Szkolenie pozwoli Ci na samodzielne zbudowanie strategii rozwoju biznesu w oparciu o najbardziej aktualną wiedzą na temat sprzedaży\, marketingu i pozyskiwania Klientów. \n\nTERMIN: 27.02 – 1.03.2023\nLOKALIZACJA: Warszawa (centrum)\nCENA: 2850 zł netto (dla członków IFR rabat 10% – kod w mailu lub sekretariat@firmyrodzinne.pl\n\n\n\n\n\nREJESTRACJA\n\n\n\n\n\n\nProgram szkolenia\n\n\n\n\nKluczowe korzyści dla uczestników: \n\nOkreślisz skuteczne działania\, które zwiększą sprzedaż i obniżą koszty\nPoznasz narzędzia i szablony wykorzystywane w procesie przygotowania strategii\nJasno określisz oczekiwania Klientów\, zachowania zakupowe i trendy\nŁatwiej podejmiesz strategiczne decyzji istotnie wpływające na rozwój przedsiębiorstwa\nPrzygotujesz proces rozwoju przedsiębiorstwa z uwzględnieniem możliwości skalowania\nŚwiadomie określisz listę oraz priorytety działań zgodnie z zasadą SMART\nBędziesz mógł wdrożyć strategię skupioną na celach\, która buduje zaangażowanie zespołu\nNauczysz się praktycznych technik budowy kompleksowych strategii skoncentrowanych na Kliencie\nUzyskasz lub zwiększysz przewagę konkurencyjną dzięki wdrożeniu strategii\nDowiesz się jak wykorzystać strategiczne podejście w zarządzaniu przedsiębiorstwem\n\nSzkolenie opracowane jest w praktyczny sposób\, tak żeby już w trakcie ćwiczeń rozpocząć opracowanie własnej strategii. Podczas szkolenia zostaną przeprowadzone ćwiczenia\, które dadzą podstawy o opracowania własnej strategii. Wykorzystane zostaną sprawdzone metodyki\, które na co dzień wykorzystujemy w pracy z Klientami.
URL:https://firmyrodzinne.pl/kalendarz/skuteczna-strategia-rozwoju-2023/
LOCATION:Warszawa\, Warszawa\, Polska
CATEGORIES:Inne
ORGANIZER;CN="BUZZcenter":MAILTO:kontakt@buzzcenter.pl
END:VEVENT
END:VCALENDAR