BEGIN:VCALENDAR
VERSION:2.0
PRODID:-//Stowarzyszenie Inicjatywa Firm Rodzinnych - ECPv5.16.4//NONSGML v1.0//EN
CALSCALE:GREGORIAN
METHOD:PUBLISH
X-WR-CALNAME:Stowarzyszenie Inicjatywa Firm Rodzinnych
X-ORIGINAL-URL:https://firmyrodzinne.pl
X-WR-CALDESC:Wydarzenia dla Stowarzyszenie Inicjatywa Firm Rodzinnych
BEGIN:VTIMEZONE
TZID:Europe/Paris
BEGIN:DAYLIGHT
TZOFFSETFROM:+0100
TZOFFSETTO:+0200
TZNAME:CEST
DTSTART:20160327T010000
END:DAYLIGHT
BEGIN:STANDARD
TZOFFSETFROM:+0200
TZOFFSETTO:+0100
TZNAME:CET
DTSTART:20161030T010000
END:STANDARD
END:VTIMEZONE
BEGIN:VEVENT
DTSTART;TZID=Europe/Paris:20160713T170000
DTEND;TZID=Europe/Paris:20160713T190000
DTSTAMP:20260424T201400
CREATED:20160707T121341Z
LAST-MODIFIED:20160707T122341Z
UID:2216-1468429200-1468436400@firmyrodzinne.pl
SUMMARY:Spotkanie konsultacyjne
DESCRIPTION:Zapraszamy na spotkanie konsultacyjne w związku z pracami Ministerstwa Rozwoju nad zmianami ustawowymi dot. sukcesji przedsiębiorstwa prowadzonego w formie jednoosobowej działalności. \nTo bardzo ważny projekt\, nad którym pracujemy z ekspertami\, ale chcielibyśmy również poznać zdanie firm rodzinnych na ten temat. Więcej o samych zmianach \nChętnych do udziału w spotkaniu prosimy o wypełnienie formularza rejestracyjnego
URL:https://firmyrodzinne.pl/kalendarz/spotkanie-konsultacyjne-ust-sukcesyjna/
LOCATION:Galeria Freta\, ul. Freta 39\, Warszawa\, Polska
CATEGORIES:IFR
ORGANIZER;CN="Inicjatywa%20Firm%20Rodzinnych":MAILTO:sekretariat@firmyrodzinne.pl
END:VEVENT
END:VCALENDAR