BEGIN:VCALENDAR
VERSION:2.0
PRODID:-//Stowarzyszenie Inicjatywa Firm Rodzinnych - ECPv5.16.4//NONSGML v1.0//EN
CALSCALE:GREGORIAN
METHOD:PUBLISH
X-WR-CALNAME:Stowarzyszenie Inicjatywa Firm Rodzinnych
X-ORIGINAL-URL:https://firmyrodzinne.pl
X-WR-CALDESC:Wydarzenia dla Stowarzyszenie Inicjatywa Firm Rodzinnych
BEGIN:VTIMEZONE
TZID:Europe/Paris
BEGIN:DAYLIGHT
TZOFFSETFROM:+0100
TZOFFSETTO:+0200
TZNAME:CEST
DTSTART:20170326T010000
END:DAYLIGHT
BEGIN:STANDARD
TZOFFSETFROM:+0200
TZOFFSETTO:+0100
TZNAME:CET
DTSTART:20171029T010000
END:STANDARD
END:VTIMEZONE
BEGIN:VEVENT
DTSTART;TZID=Europe/Paris:20170211T160000
DTEND;TZID=Europe/Paris:20170211T180000
DTSTAMP:20260424T081332
CREATED:20170208T134104Z
LAST-MODIFIED:20170208T134104Z
UID:2749-1486828800-1486836000@firmyrodzinne.pl
SUMMARY:Spotkanie w Nowym Świecie Muzyki
DESCRIPTION:Zapraszamy na spotkanie Rodzinnych z Warszawy i okolic w kawiarni Nowy Świat Muzyki oraz Tarabuk\, przy ul. Nowy Świat 63 (na rogu z ul. Świętokrzyską). \nCelem spotkania jest uruchomienie działań w Warszawie i okolicach\, zachęcenie do podjęcia inicjatyw przez naszych członków. Chcemy się policzyć i wspólnie porozmawiać o kierunku rozwoju. \nNa spotkaniu będzie czas by się zaprezentować i zaprezentować swoją firmę. To ważne\, żebyśmy poznali się bliżej i mogli ze sobą porozmawiać. \nPrzewidywany czas spotkania do godziny 17:40. O godzinie 18.00 w tym samym miejscu odbędzie się koncert fortepianowy. \nOrganizator: Inicjatywa Firm Rodzinnych\, Mikołaj Rek\, Tarabuk
URL:https://firmyrodzinne.pl/kalendarz/spotkanie-w-nowym-swiecie-muzyki/
LOCATION:Tarabuk\, ul. Nowy Świat 63\, Warszawa\, 00-042\, Polska
CATEGORIES:IFR
ORGANIZER;CN="Inicjatywa%20Firm%20Rodzinnych":MAILTO:sekretariat@firmyrodzinne.pl
END:VEVENT
END:VCALENDAR