BEGIN:VCALENDAR
VERSION:2.0
PRODID:-//Stowarzyszenie Inicjatywa Firm Rodzinnych - ECPv5.16.4//NONSGML v1.0//EN
CALSCALE:GREGORIAN
METHOD:PUBLISH
X-WR-CALNAME:Stowarzyszenie Inicjatywa Firm Rodzinnych
X-ORIGINAL-URL:https://firmyrodzinne.pl
X-WR-CALDESC:Wydarzenia dla Stowarzyszenie Inicjatywa Firm Rodzinnych
BEGIN:VTIMEZONE
TZID:Europe/Warsaw
BEGIN:DAYLIGHT
TZOFFSETFROM:+0100
TZOFFSETTO:+0200
TZNAME:CEST
DTSTART:20240331T010000
END:DAYLIGHT
BEGIN:STANDARD
TZOFFSETFROM:+0200
TZOFFSETTO:+0100
TZNAME:CET
DTSTART:20241027T010000
END:STANDARD
END:VTIMEZONE
BEGIN:VEVENT
DTSTART;VALUE=DATE:20241003
DTEND;VALUE=DATE:20241006
DTSTAMP:20260421T103123
CREATED:20240812T125310Z
LAST-MODIFIED:20241107T100357Z
UID:16031-1727913600-1728172799@firmyrodzinne.pl
SUMMARY:U-RODZINY 2024 w Łodzi
DESCRIPTION:Serdecznie zapraszamy wszystkich przedsiębiorców rodzinnych\, ekspertów i entuzjastów biznesu do udziału w 17. Ogólnopolskim Zjeździe Firm Rodzinnych U-RODZINY 2024\, który odbędzie się w dniach 3-5 października 2024 roku w Łodzi. \nTo wyjątkowe wydarzenie skupi się na kluczowych aspektach rozwoju i innowacji w przedsiębiorstwach rodzinnych pod hasłem: RODZINNA FIRMA PRZYSZŁOŚCI. Nie zabraknie również dyskusji na temat przedsiębiorczości kobiet oraz tworzenia ekosystemu sprzyjającego innowacjom w firmach rodzinnych. \nDlaczego warto wziąć udział w U-RODZINACH 2024? \n\nPoznasz najnowsze trendy i innowacje w branży firm rodzinnych\nNawiążesz cenne kontakty biznesowe i nawiążesz współpracę\nZainspitujesz się do rozwoju swojego przedsiębiorstwa rodzinnego\nZdobędziesz wiedzę niezbędną do budowania silnych\, nowoczesnych firm rodzinnych przygotowanych na wyzwania przyszłości\n\nCo czeka na Ciebie w programie? \n\nBlok I: Innowacje i Transformacja\nBlok II: Otoczenie Prawno-Ekonomiczne\nBlok III: Kapitał Ludzki i Rozwój Kompetencji\n\n\nDołącz do grona przedsiębiorców\, którzy kształtują przyszłość firm rodzinnych w Polsce. Zapraszamy! \nNie zwlekaj i zarejestruj się już dziś!\n\n\n\nREJESTRACJA NA U-RODZINY 2024\n\n\n\n\n\n\nAGENDA\n\n\n\nLiczba miejsc jest ograniczona. Nie przegap wyjątkowej okazji do rozwoju swojego biznesu rodzinnego. \n\n \nPOZNAJ SZCZEGÓŁY AGENDY \nBlok I: Innowacje i Transformacja \n\nWdrażanie nowych produktów i usług\nPrezentacja najlepszych praktyk w zakresie wprowadzania innowacyjnych produktów na rynek.\nInnowacje i patentowanie\nWykład na temat ochrony własności intelektualnej\, prowadzony przez dr. Jana Kowalskiego\, eksperta w dziedzinie prawa patentowego.\nTransformacja cyfrowa i energetyczna\nSesja dotycząca cyfryzacji procesów w firmach rodzinnych\, z udziałem prof. Anny Nowak\, specjalistki w zakresie technologii informacyjnej.\nCyberbezpieczeństwo i sztuczna inteligencja\nPanel dyskusyjny z udziałem Michała Wiśniewskiego\, eksperta w dziedzinie IT\, dotyczący zabezpieczeń w erze cyfrowej.\nAutomatyzacja procesów produkcyjnych\nPrezentacja na temat automatyzacji w produkcji\, prowadzona przez Katarzynę Zielińską\, menedżera w firmie zajmującej się nowoczesnymi technologiami.\nInternacjonalizacja i ekspansja na nowe rynki\nWarsztat dotyczący strategii wchodzenia na rynki zagraniczne\, prowadzony przez Piotra Szymczaka\, doradcę biznesowego.\n\nBlok II: Otoczenie Prawno-Ekonomiczne \n\nSukcesja w biznesie rodzinnym\nWykład na temat planowania sukcesji\, prowadzony przez dr. Ewę Malinowską\, specjalistkę w zakresie prawa rodzinnego.\nEfektywne inwestowanie w innowacje\nSesja dotycząca strategii inwestycyjnych\, z udziałem Tomasza Kaczmarka\, analityka finansowego.\nUstawa o Fundacji Rodzinnej – pierwsze doświadczenia\nPanel dyskusyjny z udziałem praktyków\, którzy dzielą się swoimi doświadczeniami.\nRelacje wewnętrzne i zewnętrzne firm rodzinnych\nPrezentacja na temat budowania relacji w firmach rodzinnych\, prowadzona przez Annę Pawlak\, psycholog biznesu.\nŁańcuchy wartości w kontekście firm rodzinnych\nWykład na temat optymalizacji łańcucha dostaw\, prowadzony przez Michała Jankowskiego\, eksperta w logistyce.\n\nBlok III: Kapitał Ludzki i Rozwój Kompetencji \n\nZarządzanie kapitałem ludzkim w firmie rodzinnej\nSesja dotycząca strategii HR\, prowadzona przez Katarzynę Nowicką\, specjalistkę ds. zarządzania talentami.\nRozwój kompetencji przyszłości\nWykład na temat umiejętności niezbędnych w nowoczesnym biznesie\, z udziałem dr. Marka Lewandowskiego\, eksperta w dziedzinie edukacji.\nEdukacja i kultura w kontekście firm rodzinnych\nPanel dyskusyjny z udziałem przedstawicieli instytucji edukacyjnych.\nRozwój pasji i zainteresowań w biznesie rodzinnym\nPrezentacja na temat znaczenia pasji w pracy\, prowadzona przez Joannę Wróblewską\, coacha rozwoju osobistego.\n\nPoszukujesz spotkań i networkingu? \nNa zakończenie pierwszego dnia konferencji zapraszamy na wieczór integracyjny\, który odbędzie się przy wykorzystaniu platformy MEETING 15. Uczestnicy będą mieli okazję do networkingu przy zimnych przekąskach i kieliszku prosecco\, w towarzystwie muzyki flamenco. \nKoniecznie weź też udział w uroczystej Gali!
URL:https://firmyrodzinne.pl/kalendarz/urodziny-2024/
LOCATION:Hotel Ambasador Premium Łódź\, Kilińskiego 145\, Łódź\, 90-315
CATEGORIES:IFR
ORGANIZER;CN="Inicjatywa%20Firm%20Rodzinnych":MAILTO:sekretariat@firmyrodzinne.pl
END:VEVENT
END:VCALENDAR