BEGIN:VCALENDAR
VERSION:2.0
PRODID:-//Stowarzyszenie Inicjatywa Firm Rodzinnych - ECPv5.16.4//NONSGML v1.0//EN
CALSCALE:GREGORIAN
METHOD:PUBLISH
X-WR-CALNAME:Stowarzyszenie Inicjatywa Firm Rodzinnych
X-ORIGINAL-URL:https://firmyrodzinne.pl
X-WR-CALDESC:Wydarzenia dla Stowarzyszenie Inicjatywa Firm Rodzinnych
BEGIN:VTIMEZONE
TZID:Europe/Paris
BEGIN:DAYLIGHT
TZOFFSETFROM:+0100
TZOFFSETTO:+0200
TZNAME:CEST
DTSTART:20160327T010000
END:DAYLIGHT
BEGIN:STANDARD
TZOFFSETFROM:+0200
TZOFFSETTO:+0100
TZNAME:CET
DTSTART:20161030T010000
END:STANDARD
END:VTIMEZONE
BEGIN:VEVENT
DTSTART;VALUE=DATE:20160617
DTEND;VALUE=DATE:20160618
DTSTAMP:20260424T221131
CREATED:20160413T032304Z
LAST-MODIFIED:20160512T155115Z
UID:1983-1466121600-1466207999@firmyrodzinne.pl
SUMMARY:Walne zgromadzenie członków IFR
DESCRIPTION:Walne zgromadzenie członków stowarzyszenia Inicjatywa Firm Rodzinnych\, połączone z wyborem nowych władz stowarzyszenia na dwuletnią kadencję.
URL:https://firmyrodzinne.pl/kalendarz/walne-zgromadzenie-czlonkow-ifr/
LOCATION:Galeria Freta\, ul. Freta 39\, Warszawa\, Polska
CATEGORIES:IFR
ORGANIZER;CN="Inicjatywa%20Firm%20Rodzinnych":MAILTO:sekretariat@firmyrodzinne.pl
END:VEVENT
END:VCALENDAR