BEGIN:VCALENDAR
VERSION:2.0
PRODID:-//Stowarzyszenie Inicjatywa Firm Rodzinnych - ECPv5.16.4//NONSGML v1.0//EN
CALSCALE:GREGORIAN
METHOD:PUBLISH
X-WR-CALNAME:Stowarzyszenie Inicjatywa Firm Rodzinnych
X-ORIGINAL-URL:https://firmyrodzinne.pl
X-WR-CALDESC:Wydarzenia dla Stowarzyszenie Inicjatywa Firm Rodzinnych
BEGIN:VTIMEZONE
TZID:Europe/Paris
BEGIN:DAYLIGHT
TZOFFSETFROM:+0100
TZOFFSETTO:+0200
TZNAME:CEST
DTSTART:20160327T010000
END:DAYLIGHT
BEGIN:STANDARD
TZOFFSETFROM:+0200
TZOFFSETTO:+0100
TZNAME:CET
DTSTART:20161030T010000
END:STANDARD
END:VTIMEZONE
BEGIN:VEVENT
DTSTART;VALUE=DATE:20160720
DTEND;VALUE=DATE:20160721
DTSTAMP:20260424T221338
CREATED:20160706T112833Z
LAST-MODIFIED:20160706T170442Z
UID:2193-1468972800-1469059199@firmyrodzinne.pl
SUMMARY:Zakończenie kosultacji ust. sukcesyjnej
DESCRIPTION:Ministerstwo Rozwoju zwróciło się do naszego stowarzyszenia z prośbą o opinię\, zarówno ekspercką\, jak i środowiska. Dotyczy to prac MR nad zmianami ustawowymi dot. sukcesji przedsiębiorstwa prowadzonego w formie jednoosobowej działalności. Mamy czas na zgłoszenie propozycji do 20.07.2016.
URL:https://firmyrodzinne.pl/kalendarz/zakonczenie-kosultacji-ust-sukcesyjnej/
CATEGORIES:Projekty
END:VEVENT
END:VCALENDAR