BEGIN:VCALENDAR
VERSION:2.0
PRODID:-//Stowarzyszenie Inicjatywa Firm Rodzinnych - ECPv5.16.4//NONSGML v1.0//EN
CALSCALE:GREGORIAN
METHOD:PUBLISH
X-WR-CALNAME:Stowarzyszenie Inicjatywa Firm Rodzinnych
X-ORIGINAL-URL:https://firmyrodzinne.pl
X-WR-CALDESC:Wydarzenia dla Stowarzyszenie Inicjatywa Firm Rodzinnych
BEGIN:VTIMEZONE
TZID:Europe/Warsaw
BEGIN:DAYLIGHT
TZOFFSETFROM:+0100
TZOFFSETTO:+0200
TZNAME:CEST
DTSTART:20230326T010000
END:DAYLIGHT
BEGIN:STANDARD
TZOFFSETFROM:+0200
TZOFFSETTO:+0100
TZNAME:CET
DTSTART:20231029T010000
END:STANDARD
END:VTIMEZONE
BEGIN:VEVENT
DTSTART;TZID=Europe/Warsaw:20230309T110000
DTEND;TZID=Europe/Warsaw:20230309T123000
DTSTAMP:20260422T103143
CREATED:20230306T115253Z
LAST-MODIFIED:20230306T115253Z
UID:13650-1678359600-1678365000@firmyrodzinne.pl
SUMMARY:Zdobywanie kontraktów ONZ
DESCRIPTION:Czy wiesz\, że w 2021 roku wartość zamówień publicznych zleconych przez agencje ONZ wyniosły ponad 29\,6 mld dolarów\, co oznacza wzrost o ponad 32% w porównaniu z poprzednim rokiem? W 2022 roku wysokość tych budżetów w związku z wojną w Ukrainie uległa dalszemu – kilkukrotnemu wzrostowi. \nChcesz ze swoją firmą wejść na nowe międzynarodowe rynki zbytu? Wykonywanie kontraktów na zlecenie ONZ to szansa na znaczny wzrost sprzedaży twoich usług/towarów. To ogromny rynek obejmujący cały świat. Dziesiątki miliardów dolarów do zagospodarowania – bezpieczne i terminowe płatności. Jeśli chcesz dowiedzieć się więcej zapraszamy na webinarium organizowane wspólnie z Atlantic Contract pt. „Jak uzyskiwać kontrakty zlecane w ramach systemu zamówień publicznych ONZ – Organizacji Narodów Zjednoczonych?”. \nWydarzenie odbędzie się w czwartek 9 marca 2023 roku w godz. 11:00 – 12:30. Spotkanie poprowadzą: Beata Zielińska\, Dyrektor ds. Klientów Strategicznych oraz Adam Durka\, Dyrektor ds. Rynków Międzynarodowych. Webinar będzie moderowany przez Sebastiana Margalskiego – członka zarządu IFR. \n\n\n\n\nWEŹ UDZIAŁ W WEBINARIUM\n\n\n\n\n\n\nInstrukcja udziału w webinarium przez ClickMeeting [PDF]\n\n\n\n\nAgenda webinarium: \n\nJak zostać dostawcą ONZ (Organizacji Narodów Zjednoczonych) – wymogi formalne\nSegmenty zakupowe\nGłówne Agencje kontraktujące zamówienia\nStatystyki dotyczące udzielanych zamówień\nPrzykładowe przetargi i kontrakty\n\nSerdecznie zapraszamy do udziału w bezpłatnym webinarium. Transmisja on-line odbędzie się na platformie ClickMeeting. Po wystąpieniu ekspertów przewidziana jest także sesja pytań i odpowiedzi. \n Do usłyszenia! \n\n\n\nPROWADZĄCY\n\n\n\nBeata Zielińska – Dyrektor ds. Klientów Strategicznych. W ATLANTIC CONTRACT zajmuje się obsługą Klientów Strategicznych począwszy od zarządzania procesami z obszaru rejestracji do systemów zamówień publicznych: Federalnego USA\, NATO i ONZ\, Zarządza zadaniami z zakresu weryfikacji dokumentacji finansowej i formalno-prawnej klientów. Posiada ponad 25-letnie doświadczenie w zakresie administracji\, zakupów\, obsługi przetargów komercyjnych oraz publicznych w różnych sektorach gospodarki i biznesu w kraju i zagranicą. Od 12 lat jest także audytorem wewnętrznym\, specjalistą ds. ISO 27001 oraz 9001. Absolwentka Wydziału Ekonomii Uniwersytetu w Padwie. Pasjonat wszystkiego co dotyczy ogrodu. \nAdam Durka – w ATLANTIC CONTRACT odpowiada za pozyskanie\, nawiązywanie relacji biznesowych i kontakty handlowe ze strategicznymi Klientami\, obecnymi jak i potencjalnymi dostawcami na rynek Federalny USA\, NATO oraz ONZ. Absolwent Szkoły Głównej Handlowej oraz Uniwersytetu Warszawskiego. Manager Sprzedaży i Zarządzania z ponad 25-letnim doświadczeniem. Pracował dla międzynarodowych liderów rynkowych takich jak SABMiller\, PepsiCo\, Grupa L.D.C. gdzie odpowiadał m.in. za rozwój nowych rynków\, Klientów oraz szkolenie i podnoszenie kompetencji podległych Zespołów.
URL:https://firmyrodzinne.pl/kalendarz/zdobywanie-kontraktow-onz/
CATEGORIES:IFR
ORGANIZER;CN="Inicjatywa%20Firm%20Rodzinnych":MAILTO:sekretariat@firmyrodzinne.pl
END:VEVENT
END:VCALENDAR